BEGIN:VCALENDAR
VERSION:2.0
PRODID:-//freiraum: Oeder Weg 6 - ECPv6.15.20//NONSGML v1.0//EN
CALSCALE:GREGORIAN
METHOD:PUBLISH
X-WR-CALNAME:freiraum: Oeder Weg 6
X-ORIGINAL-URL:https://freiraum-oederweg.de
X-WR-CALDESC:Veranstaltungen für freiraum: Oeder Weg 6
REFRESH-INTERVAL;VALUE=DURATION:PT1H
X-Robots-Tag:noindex
X-PUBLISHED-TTL:PT1H
BEGIN:VTIMEZONE
TZID:Europe/Berlin
BEGIN:DAYLIGHT
TZOFFSETFROM:+0100
TZOFFSETTO:+0200
TZNAME:CEST
DTSTART:20230326T010000
END:DAYLIGHT
BEGIN:STANDARD
TZOFFSETFROM:+0200
TZOFFSETTO:+0100
TZNAME:CET
DTSTART:20231029T010000
END:STANDARD
BEGIN:DAYLIGHT
TZOFFSETFROM:+0100
TZOFFSETTO:+0200
TZNAME:CEST
DTSTART:20240331T010000
END:DAYLIGHT
BEGIN:STANDARD
TZOFFSETFROM:+0200
TZOFFSETTO:+0100
TZNAME:CET
DTSTART:20241027T010000
END:STANDARD
BEGIN:DAYLIGHT
TZOFFSETFROM:+0100
TZOFFSETTO:+0200
TZNAME:CEST
DTSTART:20250330T010000
END:DAYLIGHT
BEGIN:STANDARD
TZOFFSETFROM:+0200
TZOFFSETTO:+0100
TZNAME:CET
DTSTART:20251026T010000
END:STANDARD
END:VTIMEZONE
BEGIN:VEVENT
DTSTART;TZID=Europe/Berlin:20240711T190000
DTEND;TZID=Europe/Berlin:20240711T210000
DTSTAMP:20260421T195229
CREATED:20240307T102801Z
LAST-MODIFIED:20241129T120931Z
UID:10001043-1720724400-1720731600@freiraum-oederweg.de
SUMMARY:Fußballgruppe @FCSF
DESCRIPTION:Komm mit uns Kicken!\nWir treffen uns regelmäßig in der Sporthalle der Freien Christlichen Schule Frankfurt (in Fechenheim) zum Kicken. \nOrt: Freie Christliche Schule Frankfurt\, Orber Str. 4\, 60386 Frankfurt am Main
URL:https://freiraum-oederweg.de/event/fussballgruppe-fcsf/2024-07-11/
LOCATION:Sporthalle Freie Christliche Schule Frankfurt\, Orber Str. 4\, Frankfurt am Main\, Hessen\, 60386\, Deutschland
CATEGORIES:Fitness
ATTACH;FMTTYPE=image/jpeg:https://freiraum-oederweg.de/wp-content/uploads/2024/03/Fussball.jpg
END:VEVENT
BEGIN:VEVENT
DTSTART;TZID=Europe/Berlin:20240704T190000
DTEND;TZID=Europe/Berlin:20240704T210000
DTSTAMP:20260421T195229
CREATED:20240307T102801Z
LAST-MODIFIED:20241129T120931Z
UID:10001042-1720119600-1720126800@freiraum-oederweg.de
SUMMARY:Fußballgruppe @FCSF
DESCRIPTION:Komm mit uns Kicken!\nWir treffen uns regelmäßig in der Sporthalle der Freien Christlichen Schule Frankfurt (in Fechenheim) zum Kicken. \nOrt: Freie Christliche Schule Frankfurt\, Orber Str. 4\, 60386 Frankfurt am Main
URL:https://freiraum-oederweg.de/event/fussballgruppe-fcsf/2024-07-04/
LOCATION:Sporthalle Freie Christliche Schule Frankfurt\, Orber Str. 4\, Frankfurt am Main\, Hessen\, 60386\, Deutschland
CATEGORIES:Fitness
ATTACH;FMTTYPE=image/jpeg:https://freiraum-oederweg.de/wp-content/uploads/2024/03/Fussball.jpg
END:VEVENT
BEGIN:VEVENT
DTSTART;TZID=Europe/Berlin:20240627T190000
DTEND;TZID=Europe/Berlin:20240627T210000
DTSTAMP:20260421T195229
CREATED:20240307T102801Z
LAST-MODIFIED:20241129T120931Z
UID:10001041-1719514800-1719522000@freiraum-oederweg.de
SUMMARY:Fußballgruppe @FCSF
DESCRIPTION:Komm mit uns Kicken!\nWir treffen uns regelmäßig in der Sporthalle der Freien Christlichen Schule Frankfurt (in Fechenheim) zum Kicken. \nOrt: Freie Christliche Schule Frankfurt\, Orber Str. 4\, 60386 Frankfurt am Main
URL:https://freiraum-oederweg.de/event/fussballgruppe-fcsf/2024-06-27/
LOCATION:Sporthalle Freie Christliche Schule Frankfurt\, Orber Str. 4\, Frankfurt am Main\, Hessen\, 60386\, Deutschland
CATEGORIES:Fitness
ATTACH;FMTTYPE=image/jpeg:https://freiraum-oederweg.de/wp-content/uploads/2024/03/Fussball.jpg
END:VEVENT
BEGIN:VEVENT
DTSTART;TZID=Europe/Berlin:20240620T190000
DTEND;TZID=Europe/Berlin:20240620T210000
DTSTAMP:20260421T195229
CREATED:20240307T102801Z
LAST-MODIFIED:20241129T120931Z
UID:10001040-1718910000-1718917200@freiraum-oederweg.de
SUMMARY:Fußballgruppe @FCSF
DESCRIPTION:Komm mit uns Kicken!\nWir treffen uns regelmäßig in der Sporthalle der Freien Christlichen Schule Frankfurt (in Fechenheim) zum Kicken. \nOrt: Freie Christliche Schule Frankfurt\, Orber Str. 4\, 60386 Frankfurt am Main
URL:https://freiraum-oederweg.de/event/fussballgruppe-fcsf/2024-06-20/
LOCATION:Sporthalle Freie Christliche Schule Frankfurt\, Orber Str. 4\, Frankfurt am Main\, Hessen\, 60386\, Deutschland
CATEGORIES:Fitness
ATTACH;FMTTYPE=image/jpeg:https://freiraum-oederweg.de/wp-content/uploads/2024/03/Fussball.jpg
END:VEVENT
BEGIN:VEVENT
DTSTART;TZID=Europe/Berlin:20240613T190000
DTEND;TZID=Europe/Berlin:20240613T210000
DTSTAMP:20260421T195229
CREATED:20240307T102801Z
LAST-MODIFIED:20241129T120931Z
UID:10001039-1718305200-1718312400@freiraum-oederweg.de
SUMMARY:Fußballgruppe @FCSF
DESCRIPTION:Komm mit uns Kicken!\nWir treffen uns regelmäßig in der Sporthalle der Freien Christlichen Schule Frankfurt (in Fechenheim) zum Kicken. \nOrt: Freie Christliche Schule Frankfurt\, Orber Str. 4\, 60386 Frankfurt am Main
URL:https://freiraum-oederweg.de/event/fussballgruppe-fcsf/2024-06-13/
LOCATION:Sporthalle Freie Christliche Schule Frankfurt\, Orber Str. 4\, Frankfurt am Main\, Hessen\, 60386\, Deutschland
CATEGORIES:Fitness
ATTACH;FMTTYPE=image/jpeg:https://freiraum-oederweg.de/wp-content/uploads/2024/03/Fussball.jpg
END:VEVENT
BEGIN:VEVENT
DTSTART;TZID=Europe/Berlin:20240606T190000
DTEND;TZID=Europe/Berlin:20240606T210000
DTSTAMP:20260421T195229
CREATED:20240307T102801Z
LAST-MODIFIED:20241129T120931Z
UID:10001038-1717700400-1717707600@freiraum-oederweg.de
SUMMARY:Fußballgruppe @FCSF
DESCRIPTION:Komm mit uns Kicken!\nWir treffen uns regelmäßig in der Sporthalle der Freien Christlichen Schule Frankfurt (in Fechenheim) zum Kicken. \nOrt: Freie Christliche Schule Frankfurt\, Orber Str. 4\, 60386 Frankfurt am Main
URL:https://freiraum-oederweg.de/event/fussballgruppe-fcsf/2024-06-06/
LOCATION:Sporthalle Freie Christliche Schule Frankfurt\, Orber Str. 4\, Frankfurt am Main\, Hessen\, 60386\, Deutschland
CATEGORIES:Fitness
ATTACH;FMTTYPE=image/jpeg:https://freiraum-oederweg.de/wp-content/uploads/2024/03/Fussball.jpg
END:VEVENT
BEGIN:VEVENT
DTSTART;TZID=Europe/Berlin:20240530T190000
DTEND;TZID=Europe/Berlin:20240530T210000
DTSTAMP:20260421T195229
CREATED:20240307T102801Z
LAST-MODIFIED:20241129T120931Z
UID:10001037-1717095600-1717102800@freiraum-oederweg.de
SUMMARY:Fußballgruppe @FCSF
DESCRIPTION:Komm mit uns Kicken!\nWir treffen uns regelmäßig in der Sporthalle der Freien Christlichen Schule Frankfurt (in Fechenheim) zum Kicken. \nOrt: Freie Christliche Schule Frankfurt\, Orber Str. 4\, 60386 Frankfurt am Main
URL:https://freiraum-oederweg.de/event/fussballgruppe-fcsf/2024-05-30/
LOCATION:Sporthalle Freie Christliche Schule Frankfurt\, Orber Str. 4\, Frankfurt am Main\, Hessen\, 60386\, Deutschland
CATEGORIES:Fitness
ATTACH;FMTTYPE=image/jpeg:https://freiraum-oederweg.de/wp-content/uploads/2024/03/Fussball.jpg
END:VEVENT
BEGIN:VEVENT
DTSTART;TZID=Europe/Berlin:20240523T190000
DTEND;TZID=Europe/Berlin:20240523T210000
DTSTAMP:20260421T195229
CREATED:20240307T102801Z
LAST-MODIFIED:20241129T120931Z
UID:10001036-1716490800-1716498000@freiraum-oederweg.de
SUMMARY:Fußballgruppe @FCSF
DESCRIPTION:Komm mit uns Kicken!\nWir treffen uns regelmäßig in der Sporthalle der Freien Christlichen Schule Frankfurt (in Fechenheim) zum Kicken. \nOrt: Freie Christliche Schule Frankfurt\, Orber Str. 4\, 60386 Frankfurt am Main
URL:https://freiraum-oederweg.de/event/fussballgruppe-fcsf/2024-05-23/
LOCATION:Sporthalle Freie Christliche Schule Frankfurt\, Orber Str. 4\, Frankfurt am Main\, Hessen\, 60386\, Deutschland
CATEGORIES:Fitness
ATTACH;FMTTYPE=image/jpeg:https://freiraum-oederweg.de/wp-content/uploads/2024/03/Fussball.jpg
END:VEVENT
BEGIN:VEVENT
DTSTART;TZID=Europe/Berlin:20240516T190000
DTEND;TZID=Europe/Berlin:20240516T210000
DTSTAMP:20260421T195229
CREATED:20240307T102801Z
LAST-MODIFIED:20241129T120931Z
UID:10001035-1715886000-1715893200@freiraum-oederweg.de
SUMMARY:Fußballgruppe @FCSF
DESCRIPTION:Komm mit uns Kicken!\nWir treffen uns regelmäßig in der Sporthalle der Freien Christlichen Schule Frankfurt (in Fechenheim) zum Kicken. \nOrt: Freie Christliche Schule Frankfurt\, Orber Str. 4\, 60386 Frankfurt am Main
URL:https://freiraum-oederweg.de/event/fussballgruppe-fcsf/2024-05-16/
LOCATION:Sporthalle Freie Christliche Schule Frankfurt\, Orber Str. 4\, Frankfurt am Main\, Hessen\, 60386\, Deutschland
CATEGORIES:Fitness
ATTACH;FMTTYPE=image/jpeg:https://freiraum-oederweg.de/wp-content/uploads/2024/03/Fussball.jpg
END:VEVENT
BEGIN:VEVENT
DTSTART;TZID=Europe/Berlin:20240509T190000
DTEND;TZID=Europe/Berlin:20240509T210000
DTSTAMP:20260421T195229
CREATED:20240307T102801Z
LAST-MODIFIED:20241129T120931Z
UID:10001034-1715281200-1715288400@freiraum-oederweg.de
SUMMARY:Fußballgruppe @FCSF
DESCRIPTION:Komm mit uns Kicken!\nWir treffen uns regelmäßig in der Sporthalle der Freien Christlichen Schule Frankfurt (in Fechenheim) zum Kicken. \nOrt: Freie Christliche Schule Frankfurt\, Orber Str. 4\, 60386 Frankfurt am Main
URL:https://freiraum-oederweg.de/event/fussballgruppe-fcsf/2024-05-09/
LOCATION:Sporthalle Freie Christliche Schule Frankfurt\, Orber Str. 4\, Frankfurt am Main\, Hessen\, 60386\, Deutschland
CATEGORIES:Fitness
ATTACH;FMTTYPE=image/jpeg:https://freiraum-oederweg.de/wp-content/uploads/2024/03/Fussball.jpg
END:VEVENT
BEGIN:VEVENT
DTSTART;TZID=Europe/Berlin:20240502T190000
DTEND;TZID=Europe/Berlin:20240502T210000
DTSTAMP:20260421T195229
CREATED:20240307T102801Z
LAST-MODIFIED:20241129T120931Z
UID:10001033-1714676400-1714683600@freiraum-oederweg.de
SUMMARY:Fußballgruppe @FCSF
DESCRIPTION:Komm mit uns Kicken!\nWir treffen uns regelmäßig in der Sporthalle der Freien Christlichen Schule Frankfurt (in Fechenheim) zum Kicken. \nOrt: Freie Christliche Schule Frankfurt\, Orber Str. 4\, 60386 Frankfurt am Main
URL:https://freiraum-oederweg.de/event/fussballgruppe-fcsf/2024-05-02/
LOCATION:Sporthalle Freie Christliche Schule Frankfurt\, Orber Str. 4\, Frankfurt am Main\, Hessen\, 60386\, Deutschland
CATEGORIES:Fitness
ATTACH;FMTTYPE=image/jpeg:https://freiraum-oederweg.de/wp-content/uploads/2024/03/Fussball.jpg
END:VEVENT
BEGIN:VEVENT
DTSTART;TZID=Europe/Berlin:20240425T190000
DTEND;TZID=Europe/Berlin:20240425T210000
DTSTAMP:20260421T195229
CREATED:20240307T102801Z
LAST-MODIFIED:20241129T120931Z
UID:10001032-1714071600-1714078800@freiraum-oederweg.de
SUMMARY:Fußballgruppe @FCSF
DESCRIPTION:Komm mit uns Kicken!\nWir treffen uns regelmäßig in der Sporthalle der Freien Christlichen Schule Frankfurt (in Fechenheim) zum Kicken. \nOrt: Freie Christliche Schule Frankfurt\, Orber Str. 4\, 60386 Frankfurt am Main
URL:https://freiraum-oederweg.de/event/fussballgruppe-fcsf/2024-04-25/
LOCATION:Sporthalle Freie Christliche Schule Frankfurt\, Orber Str. 4\, Frankfurt am Main\, Hessen\, 60386\, Deutschland
CATEGORIES:Fitness
ATTACH;FMTTYPE=image/jpeg:https://freiraum-oederweg.de/wp-content/uploads/2024/03/Fussball.jpg
END:VEVENT
BEGIN:VEVENT
DTSTART;TZID=Europe/Berlin:20240418T190000
DTEND;TZID=Europe/Berlin:20240418T210000
DTSTAMP:20260421T195229
CREATED:20240307T102801Z
LAST-MODIFIED:20241129T120931Z
UID:10001031-1713466800-1713474000@freiraum-oederweg.de
SUMMARY:Fußballgruppe @FCSF
DESCRIPTION:Komm mit uns Kicken!\nWir treffen uns regelmäßig in der Sporthalle der Freien Christlichen Schule Frankfurt (in Fechenheim) zum Kicken. \nOrt: Freie Christliche Schule Frankfurt\, Orber Str. 4\, 60386 Frankfurt am Main
URL:https://freiraum-oederweg.de/event/fussballgruppe-fcsf/2024-04-18/
LOCATION:Sporthalle Freie Christliche Schule Frankfurt\, Orber Str. 4\, Frankfurt am Main\, Hessen\, 60386\, Deutschland
CATEGORIES:Fitness
ATTACH;FMTTYPE=image/jpeg:https://freiraum-oederweg.de/wp-content/uploads/2024/03/Fussball.jpg
END:VEVENT
BEGIN:VEVENT
DTSTART;TZID=Europe/Berlin:20240411T190000
DTEND;TZID=Europe/Berlin:20240411T210000
DTSTAMP:20260421T195229
CREATED:20240307T102801Z
LAST-MODIFIED:20241129T120931Z
UID:10001030-1712862000-1712869200@freiraum-oederweg.de
SUMMARY:Fußballgruppe @FCSF
DESCRIPTION:Komm mit uns Kicken!\nWir treffen uns regelmäßig in der Sporthalle der Freien Christlichen Schule Frankfurt (in Fechenheim) zum Kicken. \nOrt: Freie Christliche Schule Frankfurt\, Orber Str. 4\, 60386 Frankfurt am Main
URL:https://freiraum-oederweg.de/event/fussballgruppe-fcsf/2024-04-11/
LOCATION:Sporthalle Freie Christliche Schule Frankfurt\, Orber Str. 4\, Frankfurt am Main\, Hessen\, 60386\, Deutschland
CATEGORIES:Fitness
ATTACH;FMTTYPE=image/jpeg:https://freiraum-oederweg.de/wp-content/uploads/2024/03/Fussball.jpg
END:VEVENT
BEGIN:VEVENT
DTSTART;TZID=Europe/Berlin:20240404T190000
DTEND;TZID=Europe/Berlin:20240404T210000
DTSTAMP:20260421T195229
CREATED:20240307T102801Z
LAST-MODIFIED:20241129T120931Z
UID:10001029-1712257200-1712264400@freiraum-oederweg.de
SUMMARY:Fußballgruppe @FCSF
DESCRIPTION:Komm mit uns Kicken!\nWir treffen uns regelmäßig in der Sporthalle der Freien Christlichen Schule Frankfurt (in Fechenheim) zum Kicken. \nOrt: Freie Christliche Schule Frankfurt\, Orber Str. 4\, 60386 Frankfurt am Main
URL:https://freiraum-oederweg.de/event/fussballgruppe-fcsf/2024-04-04/
LOCATION:Sporthalle Freie Christliche Schule Frankfurt\, Orber Str. 4\, Frankfurt am Main\, Hessen\, 60386\, Deutschland
CATEGORIES:Fitness
ATTACH;FMTTYPE=image/jpeg:https://freiraum-oederweg.de/wp-content/uploads/2024/03/Fussball.jpg
END:VEVENT
BEGIN:VEVENT
DTSTART;TZID=Europe/Berlin:20240328T190000
DTEND;TZID=Europe/Berlin:20240328T210000
DTSTAMP:20260421T195229
CREATED:20240307T102801Z
LAST-MODIFIED:20241129T120931Z
UID:10001028-1711652400-1711659600@freiraum-oederweg.de
SUMMARY:Fußballgruppe @FCSF
DESCRIPTION:Komm mit uns Kicken!\nWir treffen uns regelmäßig in der Sporthalle der Freien Christlichen Schule Frankfurt (in Fechenheim) zum Kicken. \nOrt: Freie Christliche Schule Frankfurt\, Orber Str. 4\, 60386 Frankfurt am Main
URL:https://freiraum-oederweg.de/event/fussballgruppe-fcsf/2024-03-28/
LOCATION:Sporthalle Freie Christliche Schule Frankfurt\, Orber Str. 4\, Frankfurt am Main\, Hessen\, 60386\, Deutschland
CATEGORIES:Fitness
ATTACH;FMTTYPE=image/jpeg:https://freiraum-oederweg.de/wp-content/uploads/2024/03/Fussball.jpg
END:VEVENT
BEGIN:VEVENT
DTSTART;TZID=Europe/Berlin:20240321T190000
DTEND;TZID=Europe/Berlin:20240321T210000
DTSTAMP:20260421T195229
CREATED:20240307T102801Z
LAST-MODIFIED:20241129T120931Z
UID:10001027-1711047600-1711054800@freiraum-oederweg.de
SUMMARY:Fußballgruppe @FCSF
DESCRIPTION:Komm mit uns Kicken!\nWir treffen uns regelmäßig in der Sporthalle der Freien Christlichen Schule Frankfurt (in Fechenheim) zum Kicken. \nOrt: Freie Christliche Schule Frankfurt\, Orber Str. 4\, 60386 Frankfurt am Main
URL:https://freiraum-oederweg.de/event/fussballgruppe-fcsf/2024-03-21/
LOCATION:Sporthalle Freie Christliche Schule Frankfurt\, Orber Str. 4\, Frankfurt am Main\, Hessen\, 60386\, Deutschland
CATEGORIES:Fitness
ATTACH;FMTTYPE=image/jpeg:https://freiraum-oederweg.de/wp-content/uploads/2024/03/Fussball.jpg
END:VEVENT
BEGIN:VEVENT
DTSTART;TZID=Europe/Berlin:20240314T190000
DTEND;TZID=Europe/Berlin:20240314T210000
DTSTAMP:20260421T195229
CREATED:20240307T102801Z
LAST-MODIFIED:20241129T120931Z
UID:10001026-1710442800-1710450000@freiraum-oederweg.de
SUMMARY:Fußballgruppe @FCSF
DESCRIPTION:Komm mit uns Kicken!\nWir treffen uns regelmäßig in der Sporthalle der Freien Christlichen Schule Frankfurt (in Fechenheim) zum Kicken. \nOrt: Freie Christliche Schule Frankfurt\, Orber Str. 4\, 60386 Frankfurt am Main
URL:https://freiraum-oederweg.de/event/fussballgruppe-fcsf/2024-03-14/
LOCATION:Sporthalle Freie Christliche Schule Frankfurt\, Orber Str. 4\, Frankfurt am Main\, Hessen\, 60386\, Deutschland
CATEGORIES:Fitness
ATTACH;FMTTYPE=image/jpeg:https://freiraum-oederweg.de/wp-content/uploads/2024/03/Fussball.jpg
END:VEVENT
END:VCALENDAR