BEGIN:VCALENDAR
VERSION:2.0
PRODID:-//freiraum: Oeder Weg 6 - ECPv6.15.20//NONSGML v1.0//EN
CALSCALE:GREGORIAN
METHOD:PUBLISH
X-ORIGINAL-URL:https://freiraum-oederweg.de
X-WR-CALDESC:Veranstaltungen für freiraum: Oeder Weg 6
REFRESH-INTERVAL;VALUE=DURATION:PT1H
X-Robots-Tag:noindex
X-PUBLISHED-TTL:PT1H
BEGIN:VTIMEZONE
TZID:Europe/Berlin
BEGIN:DAYLIGHT
TZOFFSETFROM:+0100
TZOFFSETTO:+0200
TZNAME:CEST
DTSTART:20240331T010000
END:DAYLIGHT
BEGIN:STANDARD
TZOFFSETFROM:+0200
TZOFFSETTO:+0100
TZNAME:CET
DTSTART:20241027T010000
END:STANDARD
BEGIN:DAYLIGHT
TZOFFSETFROM:+0100
TZOFFSETTO:+0200
TZNAME:CEST
DTSTART:20250330T010000
END:DAYLIGHT
BEGIN:STANDARD
TZOFFSETFROM:+0200
TZOFFSETTO:+0100
TZNAME:CET
DTSTART:20251026T010000
END:STANDARD
BEGIN:DAYLIGHT
TZOFFSETFROM:+0100
TZOFFSETTO:+0200
TZNAME:CEST
DTSTART:20260329T010000
END:DAYLIGHT
BEGIN:STANDARD
TZOFFSETFROM:+0200
TZOFFSETTO:+0100
TZNAME:CET
DTSTART:20261025T010000
END:STANDARD
END:VTIMEZONE
BEGIN:VEVENT
DTSTART;TZID=Europe/Berlin:20251113T193000
DTEND;TZID=Europe/Berlin:20251113T210000
DTSTAMP:20260420T145638
CREATED:20250814T210035Z
LAST-MODIFIED:20250814T210036Z
UID:10001901-1763062200-1763067600@freiraum-oederweg.de
SUMMARY:Themenabend „Was passiert\, wenn was passiert?“
DESCRIPTION:Was ist zu bedenken im Fall der Fälle? \nAn unserem Themenabend gibt Frank Hammann fachkundige und hilfreiche Infos rund um die Themenbereiche Vorsorgevollmacht und Testament. \n„Was passiert\, wenn was passiert?“ \nDo\, 13. November\, 19.30-21 Uhr \nInfos: f.hammann@gsf-law.de\nLeitung: Frank Hammann (Württembergischer Notariatsassessor)
URL:https://freiraum-oederweg.de/event/themenabend-was-passiert-wenn-was-passiert/
LOCATION:freiraum:\, Oeder Weg 6\, Frankfurt\, 60318\, Deutschland
CATEGORIES:Events,Themen
ATTACH;FMTTYPE=image/jpeg:https://freiraum-oederweg.de/wp-content/uploads/2025/08/Thema-2-1.jpg
ORGANIZER;CN="freiraum%3A":MAILTO:info@freiraum-oederweg.de
END:VEVENT
END:VCALENDAR