BEGIN:VCALENDAR
VERSION:2.0
PRODID:-//freiraum: Oeder Weg 6 - ECPv6.15.20//NONSGML v1.0//EN
CALSCALE:GREGORIAN
METHOD:PUBLISH
X-ORIGINAL-URL:https://freiraum-oederweg.de
X-WR-CALDESC:Veranstaltungen für freiraum: Oeder Weg 6
REFRESH-INTERVAL;VALUE=DURATION:PT1H
X-Robots-Tag:noindex
X-PUBLISHED-TTL:PT1H
BEGIN:VTIMEZONE
TZID:Europe/Berlin
BEGIN:DAYLIGHT
TZOFFSETFROM:+0100
TZOFFSETTO:+0200
TZNAME:CEST
DTSTART:20250330T010000
END:DAYLIGHT
BEGIN:STANDARD
TZOFFSETFROM:+0200
TZOFFSETTO:+0100
TZNAME:CET
DTSTART:20251026T010000
END:STANDARD
BEGIN:DAYLIGHT
TZOFFSETFROM:+0100
TZOFFSETTO:+0200
TZNAME:CEST
DTSTART:20260329T010000
END:DAYLIGHT
BEGIN:STANDARD
TZOFFSETFROM:+0200
TZOFFSETTO:+0100
TZNAME:CET
DTSTART:20261025T010000
END:STANDARD
BEGIN:DAYLIGHT
TZOFFSETFROM:+0100
TZOFFSETTO:+0200
TZNAME:CEST
DTSTART:20270328T010000
END:DAYLIGHT
BEGIN:STANDARD
TZOFFSETFROM:+0200
TZOFFSETTO:+0100
TZNAME:CET
DTSTART:20271031T010000
END:STANDARD
END:VTIMEZONE
BEGIN:VEVENT
DTSTART;TZID=Europe/Berlin:20260325T190000
DTEND;TZID=Europe/Berlin:20260325T210000
DTSTAMP:20260425T140630
CREATED:20260311T095949Z
LAST-MODIFIED:20260311T095949Z
UID:10001943-1774465200-1774472400@freiraum-oederweg.de
SUMMARY:Vernetzungstreffen Smarter Start ab 14
DESCRIPTION:Du siehst Probleme in einer Kindheit und Jugend\, die überwiegend online stattfindet?\nDu möchtest dich für eine smartphonefreie Kindheit einsetzen?\nDu möchtest dich mit Gleichgesinnten vernetzen?\nDann komm vorbei! \nVernetzungstreffen am Mittwoch\, 25.3.26 um 19 Uhr\nWo? freiraum: Oeder Weg 6 in Frankfurt \nAn dem Treffen wollen wir einander kennenlernen\, uns austauschen und gemeinsam überlegen\, wo und wie wir uns für eine gesunde Zukunft unserer Kinder einsetzen können. \nDie Kindheit ist zu kurz\, um sie an ein Smartphone zu verschwenden. \nInfos zur bundesweiten Initiative: www.smarterstartab14.de\nInfos zum Vernetzungstreffen: kerstin@freiraum-oederweg.de\nLeitung: Dr. Kerstin Perbandt
URL:https://freiraum-oederweg.de/event/vernetzungstreffen-smarter-start-ab-14/2026-03-25/
LOCATION:freiraum:\, Oeder Weg 6\, Frankfurt\, 60318\, Deutschland
CATEGORIES:Events,Familie und Kinder,Themen
ATTACH;FMTTYPE=image/jpeg:https://freiraum-oederweg.de/wp-content/uploads/2026/01/SmarterStart.jpg
ORGANIZER;CN="Dr. Kerstin Perbandt":MAILTO:k.perbandt@psych.uni-frankfurt.de
END:VEVENT
END:VCALENDAR