BEGIN:VCALENDAR
VERSION:2.0
PRODID:-//freiraum: Oeder Weg 6 - ECPv6.15.20//NONSGML v1.0//EN
CALSCALE:GREGORIAN
METHOD:PUBLISH
X-ORIGINAL-URL:https://freiraum-oederweg.de
X-WR-CALDESC:Veranstaltungen für freiraum: Oeder Weg 6
REFRESH-INTERVAL;VALUE=DURATION:PT1H
X-Robots-Tag:noindex
X-PUBLISHED-TTL:PT1H
BEGIN:VTIMEZONE
TZID:Europe/Berlin
BEGIN:DAYLIGHT
TZOFFSETFROM:+0100
TZOFFSETTO:+0200
TZNAME:CEST
DTSTART:20230326T010000
END:DAYLIGHT
BEGIN:STANDARD
TZOFFSETFROM:+0200
TZOFFSETTO:+0100
TZNAME:CET
DTSTART:20231029T010000
END:STANDARD
BEGIN:DAYLIGHT
TZOFFSETFROM:+0100
TZOFFSETTO:+0200
TZNAME:CEST
DTSTART:20240331T010000
END:DAYLIGHT
BEGIN:STANDARD
TZOFFSETFROM:+0200
TZOFFSETTO:+0100
TZNAME:CET
DTSTART:20241027T010000
END:STANDARD
BEGIN:DAYLIGHT
TZOFFSETFROM:+0100
TZOFFSETTO:+0200
TZNAME:CEST
DTSTART:20250330T010000
END:DAYLIGHT
BEGIN:STANDARD
TZOFFSETFROM:+0200
TZOFFSETTO:+0100
TZNAME:CET
DTSTART:20251026T010000
END:STANDARD
END:VTIMEZONE
BEGIN:VEVENT
DTSTART;TZID=Europe/Berlin:20240829T153000
DTEND;TZID=Europe/Berlin:20240829T183000
DTSTAMP:20260419T165414
CREATED:20240822T093355Z
LAST-MODIFIED:20240822T100620Z
UID:10001101-1724945400-1724956200@freiraum-oederweg.de
SUMMARY:freiraum:Café
DESCRIPTION:Komm vorbei und triff Nachbarn und Menschen aus der Umgebung im freiraum:café. Wir freuen uns auf nette Gespräche\, Raum zum lockeren Co-Worken oder Begegnungen auf dem Sprung in die Stadt. Du bist herzlich willkommen. \nfreiraum:café\nDonnerstags\, ab 15.30-18.30 Uhr
URL:https://freiraum-oederweg.de/event/freiraumcafe-2/2024-08-29/
LOCATION:freiraum:\, Oeder Weg 6\, Frankfurt\, 60318\, Deutschland
CATEGORIES:Begegnungen
ATTACH;FMTTYPE=image/jpeg:https://freiraum-oederweg.de/wp-content/uploads/2024/03/Cafe.jpg
ORGANIZER;CN="freiraum%3A":MAILTO:info@freiraum-oederweg.de
END:VEVENT
BEGIN:VEVENT
DTSTART;TZID=Europe/Berlin:20240704T170000
DTEND;TZID=Europe/Berlin:20240704T183000
DTSTAMP:20260419T165414
CREATED:20240315T120410Z
LAST-MODIFIED:20240315T120410Z
UID:10001100-1720112400-1720117800@freiraum-oederweg.de
SUMMARY:freiraum:Café
DESCRIPTION:Komm vorbei und triff Nachbarn und Menschen aus der Umgebung im freiraum:café. Egal ob auf einen kurzer Abstecher nach der Arbeit oder auf dem Sprung in die Stadt – wir sind da! \nfreiraum:café\nDonnerstags\, 17-18.30 Uhr (ab 18. April)
URL:https://freiraum-oederweg.de/event/freiraumcafe/2024-07-04/
LOCATION:freiraum:\, Oeder Weg 6\, Frankfurt\, 60318\, Deutschland
CATEGORIES:Begegnungen
ATTACH;FMTTYPE=image/jpeg:https://freiraum-oederweg.de/wp-content/uploads/2024/03/Cafe.jpg
ORGANIZER;CN="freiraum%3A":MAILTO:info@freiraum-oederweg.de
END:VEVENT
BEGIN:VEVENT
DTSTART;TZID=Europe/Berlin:20240627T170000
DTEND;TZID=Europe/Berlin:20240627T183000
DTSTAMP:20260419T165414
CREATED:20240315T120410Z
LAST-MODIFIED:20240315T120410Z
UID:10001099-1719507600-1719513000@freiraum-oederweg.de
SUMMARY:freiraum:Café
DESCRIPTION:Komm vorbei und triff Nachbarn und Menschen aus der Umgebung im freiraum:café. Egal ob auf einen kurzer Abstecher nach der Arbeit oder auf dem Sprung in die Stadt – wir sind da! \nfreiraum:café\nDonnerstags\, 17-18.30 Uhr (ab 18. April)
URL:https://freiraum-oederweg.de/event/freiraumcafe/2024-06-27/
LOCATION:freiraum:\, Oeder Weg 6\, Frankfurt\, 60318\, Deutschland
CATEGORIES:Begegnungen
ATTACH;FMTTYPE=image/jpeg:https://freiraum-oederweg.de/wp-content/uploads/2024/03/Cafe.jpg
ORGANIZER;CN="freiraum%3A":MAILTO:info@freiraum-oederweg.de
END:VEVENT
BEGIN:VEVENT
DTSTART;TZID=Europe/Berlin:20240620T170000
DTEND;TZID=Europe/Berlin:20240620T183000
DTSTAMP:20260419T165414
CREATED:20240315T120410Z
LAST-MODIFIED:20240315T120410Z
UID:10001098-1718902800-1718908200@freiraum-oederweg.de
SUMMARY:freiraum:Café
DESCRIPTION:Komm vorbei und triff Nachbarn und Menschen aus der Umgebung im freiraum:café. Egal ob auf einen kurzer Abstecher nach der Arbeit oder auf dem Sprung in die Stadt – wir sind da! \nfreiraum:café\nDonnerstags\, 17-18.30 Uhr (ab 18. April)
URL:https://freiraum-oederweg.de/event/freiraumcafe/2024-06-20/
LOCATION:freiraum:\, Oeder Weg 6\, Frankfurt\, 60318\, Deutschland
CATEGORIES:Begegnungen
ATTACH;FMTTYPE=image/jpeg:https://freiraum-oederweg.de/wp-content/uploads/2024/03/Cafe.jpg
ORGANIZER;CN="freiraum%3A":MAILTO:info@freiraum-oederweg.de
END:VEVENT
BEGIN:VEVENT
DTSTART;TZID=Europe/Berlin:20240613T170000
DTEND;TZID=Europe/Berlin:20240613T183000
DTSTAMP:20260419T165414
CREATED:20240315T120410Z
LAST-MODIFIED:20240315T120410Z
UID:10001097-1718298000-1718303400@freiraum-oederweg.de
SUMMARY:freiraum:Café
DESCRIPTION:Komm vorbei und triff Nachbarn und Menschen aus der Umgebung im freiraum:café. Egal ob auf einen kurzer Abstecher nach der Arbeit oder auf dem Sprung in die Stadt – wir sind da! \nfreiraum:café\nDonnerstags\, 17-18.30 Uhr (ab 18. April)
URL:https://freiraum-oederweg.de/event/freiraumcafe/2024-06-13/
LOCATION:freiraum:\, Oeder Weg 6\, Frankfurt\, 60318\, Deutschland
CATEGORIES:Begegnungen
ATTACH;FMTTYPE=image/jpeg:https://freiraum-oederweg.de/wp-content/uploads/2024/03/Cafe.jpg
ORGANIZER;CN="freiraum%3A":MAILTO:info@freiraum-oederweg.de
END:VEVENT
BEGIN:VEVENT
DTSTART;TZID=Europe/Berlin:20240606T170000
DTEND;TZID=Europe/Berlin:20240606T183000
DTSTAMP:20260419T165414
CREATED:20240315T120410Z
LAST-MODIFIED:20240315T120410Z
UID:10001096-1717693200-1717698600@freiraum-oederweg.de
SUMMARY:freiraum:Café
DESCRIPTION:Komm vorbei und triff Nachbarn und Menschen aus der Umgebung im freiraum:café. Egal ob auf einen kurzer Abstecher nach der Arbeit oder auf dem Sprung in die Stadt – wir sind da! \nfreiraum:café\nDonnerstags\, 17-18.30 Uhr (ab 18. April)
URL:https://freiraum-oederweg.de/event/freiraumcafe/2024-06-06/
LOCATION:freiraum:\, Oeder Weg 6\, Frankfurt\, 60318\, Deutschland
CATEGORIES:Begegnungen
ATTACH;FMTTYPE=image/jpeg:https://freiraum-oederweg.de/wp-content/uploads/2024/03/Cafe.jpg
ORGANIZER;CN="freiraum%3A":MAILTO:info@freiraum-oederweg.de
END:VEVENT
BEGIN:VEVENT
DTSTART;TZID=Europe/Berlin:20240523T170000
DTEND;TZID=Europe/Berlin:20240523T183000
DTSTAMP:20260419T165414
CREATED:20240315T120410Z
LAST-MODIFIED:20240315T120410Z
UID:10001095-1716483600-1716489000@freiraum-oederweg.de
SUMMARY:freiraum:Café
DESCRIPTION:Komm vorbei und triff Nachbarn und Menschen aus der Umgebung im freiraum:café. Egal ob auf einen kurzer Abstecher nach der Arbeit oder auf dem Sprung in die Stadt – wir sind da! \nfreiraum:café\nDonnerstags\, 17-18.30 Uhr (ab 18. April)
URL:https://freiraum-oederweg.de/event/freiraumcafe/2024-05-23/
LOCATION:freiraum:\, Oeder Weg 6\, Frankfurt\, 60318\, Deutschland
CATEGORIES:Begegnungen
ATTACH;FMTTYPE=image/jpeg:https://freiraum-oederweg.de/wp-content/uploads/2024/03/Cafe.jpg
ORGANIZER;CN="freiraum%3A":MAILTO:info@freiraum-oederweg.de
END:VEVENT
BEGIN:VEVENT
DTSTART;TZID=Europe/Berlin:20240516T170000
DTEND;TZID=Europe/Berlin:20240516T183000
DTSTAMP:20260419T165414
CREATED:20240315T120410Z
LAST-MODIFIED:20240315T120410Z
UID:10001094-1715878800-1715884200@freiraum-oederweg.de
SUMMARY:freiraum:Café
DESCRIPTION:Komm vorbei und triff Nachbarn und Menschen aus der Umgebung im freiraum:café. Egal ob auf einen kurzer Abstecher nach der Arbeit oder auf dem Sprung in die Stadt – wir sind da! \nfreiraum:café\nDonnerstags\, 17-18.30 Uhr (ab 18. April)
URL:https://freiraum-oederweg.de/event/freiraumcafe/2024-05-16/
LOCATION:freiraum:\, Oeder Weg 6\, Frankfurt\, 60318\, Deutschland
CATEGORIES:Begegnungen
ATTACH;FMTTYPE=image/jpeg:https://freiraum-oederweg.de/wp-content/uploads/2024/03/Cafe.jpg
ORGANIZER;CN="freiraum%3A":MAILTO:info@freiraum-oederweg.de
END:VEVENT
BEGIN:VEVENT
DTSTART;TZID=Europe/Berlin:20240502T170000
DTEND;TZID=Europe/Berlin:20240502T183000
DTSTAMP:20260419T165414
CREATED:20240315T120410Z
LAST-MODIFIED:20240315T120410Z
UID:10001093-1714669200-1714674600@freiraum-oederweg.de
SUMMARY:freiraum:Café
DESCRIPTION:Komm vorbei und triff Nachbarn und Menschen aus der Umgebung im freiraum:café. Egal ob auf einen kurzer Abstecher nach der Arbeit oder auf dem Sprung in die Stadt – wir sind da! \nfreiraum:café\nDonnerstags\, 17-18.30 Uhr (ab 18. April)
URL:https://freiraum-oederweg.de/event/freiraumcafe/2024-05-02/
LOCATION:freiraum:\, Oeder Weg 6\, Frankfurt\, 60318\, Deutschland
CATEGORIES:Begegnungen
ATTACH;FMTTYPE=image/jpeg:https://freiraum-oederweg.de/wp-content/uploads/2024/03/Cafe.jpg
ORGANIZER;CN="freiraum%3A":MAILTO:info@freiraum-oederweg.de
END:VEVENT
BEGIN:VEVENT
DTSTART;TZID=Europe/Berlin:20240425T170000
DTEND;TZID=Europe/Berlin:20240425T183000
DTSTAMP:20260419T165414
CREATED:20240315T120410Z
LAST-MODIFIED:20240315T120410Z
UID:10001092-1714064400-1714069800@freiraum-oederweg.de
SUMMARY:freiraum:Café
DESCRIPTION:Komm vorbei und triff Nachbarn und Menschen aus der Umgebung im freiraum:café. Egal ob auf einen kurzer Abstecher nach der Arbeit oder auf dem Sprung in die Stadt – wir sind da! \nfreiraum:café\nDonnerstags\, 17-18.30 Uhr (ab 18. April)
URL:https://freiraum-oederweg.de/event/freiraumcafe/2024-04-25/
LOCATION:freiraum:\, Oeder Weg 6\, Frankfurt\, 60318\, Deutschland
CATEGORIES:Begegnungen
ATTACH;FMTTYPE=image/jpeg:https://freiraum-oederweg.de/wp-content/uploads/2024/03/Cafe.jpg
ORGANIZER;CN="freiraum%3A":MAILTO:info@freiraum-oederweg.de
END:VEVENT
BEGIN:VEVENT
DTSTART;TZID=Europe/Berlin:20240418T170000
DTEND;TZID=Europe/Berlin:20240418T183000
DTSTAMP:20260419T165414
CREATED:20240315T120410Z
LAST-MODIFIED:20240315T120410Z
UID:10001091-1713459600-1713465000@freiraum-oederweg.de
SUMMARY:freiraum:Café
DESCRIPTION:Komm vorbei und triff Nachbarn und Menschen aus der Umgebung im freiraum:café. Egal ob auf einen kurzer Abstecher nach der Arbeit oder auf dem Sprung in die Stadt – wir sind da! \nfreiraum:café\nDonnerstags\, 17-18.30 Uhr (ab 18. April)
URL:https://freiraum-oederweg.de/event/freiraumcafe/2024-04-18/
LOCATION:freiraum:\, Oeder Weg 6\, Frankfurt\, 60318\, Deutschland
CATEGORIES:Begegnungen
ATTACH;FMTTYPE=image/jpeg:https://freiraum-oederweg.de/wp-content/uploads/2024/03/Cafe.jpg
ORGANIZER;CN="freiraum%3A":MAILTO:info@freiraum-oederweg.de
END:VEVENT
END:VCALENDAR