BEGIN:VCALENDAR
VERSION:2.0
PRODID:-//freiraum: Oeder Weg 6 - ECPv6.15.20//NONSGML v1.0//EN
CALSCALE:GREGORIAN
METHOD:PUBLISH
X-ORIGINAL-URL:https://freiraum-oederweg.de
X-WR-CALDESC:Veranstaltungen für freiraum: Oeder Weg 6
REFRESH-INTERVAL;VALUE=DURATION:PT1H
X-Robots-Tag:noindex
X-PUBLISHED-TTL:PT1H
BEGIN:VTIMEZONE
TZID:Europe/Berlin
BEGIN:DAYLIGHT
TZOFFSETFROM:+0100
TZOFFSETTO:+0200
TZNAME:CEST
DTSTART:20230326T010000
END:DAYLIGHT
BEGIN:STANDARD
TZOFFSETFROM:+0200
TZOFFSETTO:+0100
TZNAME:CET
DTSTART:20231029T010000
END:STANDARD
BEGIN:DAYLIGHT
TZOFFSETFROM:+0100
TZOFFSETTO:+0200
TZNAME:CEST
DTSTART:20240331T010000
END:DAYLIGHT
BEGIN:STANDARD
TZOFFSETFROM:+0200
TZOFFSETTO:+0100
TZNAME:CET
DTSTART:20241027T010000
END:STANDARD
BEGIN:DAYLIGHT
TZOFFSETFROM:+0100
TZOFFSETTO:+0200
TZNAME:CEST
DTSTART:20250330T010000
END:DAYLIGHT
BEGIN:STANDARD
TZOFFSETFROM:+0200
TZOFFSETTO:+0100
TZNAME:CET
DTSTART:20251026T010000
END:STANDARD
BEGIN:DAYLIGHT
TZOFFSETFROM:+0100
TZOFFSETTO:+0200
TZNAME:CEST
DTSTART:20260329T010000
END:DAYLIGHT
BEGIN:STANDARD
TZOFFSETFROM:+0200
TZOFFSETTO:+0100
TZNAME:CET
DTSTART:20261025T010000
END:STANDARD
END:VTIMEZONE
BEGIN:VEVENT
DTSTART;TZID=Europe/Berlin:20251108T170000
DTEND;TZID=Europe/Berlin:20251108T200000
DTSTAMP:20260421T145723
CREATED:20250709T154402Z
LAST-MODIFIED:20250709T154402Z
UID:10001899-1762621200-1762632000@freiraum-oederweg.de
SUMMARY:Community-Cooking: Asian Food
DESCRIPTION:Wir starten in den Samstagabend mit dem Kochen und Snacken von asiatischen Gerichten! Unter der Anleitung von Amy entdecken wir die asiatische Küche\, schnibbeln zusammen\, lernen Zubereitungstechniken und haben eine gute Zeit\, während wir uns durch verschiedene Teller probieren. \nSamstag\, 8. November von 17-20 Uhr \nAnmeldung: amy@freiraum-oederweg.de\nLeitung: Amy Pun-Klinkert\nmax. 10 Personen | Unkostenbeitrag 10€ p.P.
URL:https://freiraum-oederweg.de/event/community-cooking-asian-food-2/
LOCATION:freiraum:\, Oeder Weg 6\, Frankfurt\, 60318\, Deutschland
CATEGORIES:Begegnungen,Cooking
ATTACH;FMTTYPE=image/jpeg:https://freiraum-oederweg.de/wp-content/uploads/2024/03/cooking.jpg
ORGANIZER;CN="Amy Pun-Klinkert":MAILTO:amy@freiraum-oederweg.de
END:VEVENT
BEGIN:VEVENT
DTSTART;TZID=Europe/Berlin:20250906T170000
DTEND;TZID=Europe/Berlin:20250906T200000
DTSTAMP:20260421T145723
CREATED:20240822T092310Z
LAST-MODIFIED:20250709T154327Z
UID:10001132-1757178000-1757188800@freiraum-oederweg.de
SUMMARY:Community-Cooking: Asian Food
DESCRIPTION:Wir starten in den Samstagabend mit dem Kochen und Snacken von asiatischen Gerichten! Unter der Anleitung von Amy entdecken wir die asiatische Küche\, schnibbeln zusammen\, lernen Zubereitungstechniken und haben eine gute Zeit\, während wir uns durch verschiedene Teller probieren. \nSamstag\, 6. September von 17-20 Uhr \nAnmeldung: amy@freiraum-oederweg.de\nLeitung: Amy Pun-Klinkert\nmax. 10 Personen | Unkostenbeitrag 10€ p.P.
URL:https://freiraum-oederweg.de/event/cooking/
LOCATION:freiraum:\, Oeder Weg 6\, Frankfurt\, 60318\, Deutschland
CATEGORIES:Begegnungen,Cooking
ATTACH;FMTTYPE=image/jpeg:https://freiraum-oederweg.de/wp-content/uploads/2024/03/cooking.jpg
ORGANIZER;CN="Amy Pun-Klinkert":MAILTO:amy@freiraum-oederweg.de
END:VEVENT
BEGIN:VEVENT
DTSTART;TZID=Europe/Berlin:20240518T170000
DTEND;TZID=Europe/Berlin:20240518T190000
DTSTAMP:20260421T145723
CREATED:20240313T154405Z
LAST-MODIFIED:20240515T093032Z
UID:10001068-1716051600-1716058800@freiraum-oederweg.de
SUMMARY:Community-Cooking: Asian Food
DESCRIPTION:Wir starten in den Samstagabend mit dem Kochen und Snacken von asiatischen Gerichten! Unter der Anleitung von Amy entdecken wir die kantonesische Küche\, schnibbeln zusammen\, lernen Zubereitungstechniken und haben eine gute Zeit\, während wir uns durch verschiedene Teller probieren. Wer möchte kann im Anschluss Trinken gehen in der Umgebung. \nSamstag\, 18. Mai\, 17-19 Uhr\n \nAnmeldung: amy@freiraum-oederweg.de\nLeitung: Amy Pun-Klinkert\nmax. 10 Personen | Unkostenbeitrag 10€
URL:https://freiraum-oederweg.de/event/community-cooking-asian-food/
LOCATION:freiraum:\, Oeder Weg 6\, Frankfurt\, 60318\, Deutschland
CATEGORIES:Begegnungen,Themen
ATTACH;FMTTYPE=image/jpeg:https://freiraum-oederweg.de/wp-content/uploads/2024/03/cooking.jpg
ORGANIZER;CN="Amy Pun-Klinkert":MAILTO:amy@freiraum-oederweg.de
END:VEVENT
END:VCALENDAR