BEGIN:VCALENDAR
VERSION:2.0
PRODID:-//freiraum: Oeder Weg 6 - ECPv6.15.20//NONSGML v1.0//EN
CALSCALE:GREGORIAN
METHOD:PUBLISH
X-ORIGINAL-URL:https://freiraum-oederweg.de
X-WR-CALDESC:Veranstaltungen für freiraum: Oeder Weg 6
REFRESH-INTERVAL;VALUE=DURATION:PT1H
X-Robots-Tag:noindex
X-PUBLISHED-TTL:PT1H
BEGIN:VTIMEZONE
TZID:Europe/Berlin
BEGIN:DAYLIGHT
TZOFFSETFROM:+0100
TZOFFSETTO:+0200
TZNAME:CEST
DTSTART:20230326T010000
END:DAYLIGHT
BEGIN:STANDARD
TZOFFSETFROM:+0200
TZOFFSETTO:+0100
TZNAME:CET
DTSTART:20231029T010000
END:STANDARD
BEGIN:DAYLIGHT
TZOFFSETFROM:+0100
TZOFFSETTO:+0200
TZNAME:CEST
DTSTART:20240331T010000
END:DAYLIGHT
BEGIN:STANDARD
TZOFFSETFROM:+0200
TZOFFSETTO:+0100
TZNAME:CET
DTSTART:20241027T010000
END:STANDARD
BEGIN:DAYLIGHT
TZOFFSETFROM:+0100
TZOFFSETTO:+0200
TZNAME:CEST
DTSTART:20250330T010000
END:DAYLIGHT
BEGIN:STANDARD
TZOFFSETFROM:+0200
TZOFFSETTO:+0100
TZNAME:CET
DTSTART:20251026T010000
END:STANDARD
END:VTIMEZONE
BEGIN:VEVENT
DTSTART;TZID=Europe/Berlin:20241109T093000
DTEND;TZID=Europe/Berlin:20241109T110000
DTSTAMP:20260421T151315
CREATED:20240307T101627Z
LAST-MODIFIED:20241129T121123Z
UID:10000938-1731144600-1731150000@freiraum-oederweg.de
SUMMARY:Basketball@EZB
DESCRIPTION:Der frühe Vogel fängt den Rebound!\nWir treffen uns regelmäßig am Samstagmorgen bei gutem Wetter zum Basketballspielen an den Courts der EZB (ca. 8.30-10.30 Uhr). Nach einer kurzen Aufwärmphase spielen wird in kleinen Mannschaften Streetball. Oft stoßen noch spontan andere Spieler vor Ort dazu.Bis Mitte Oktober sind wir noch draußen! \nKontakt: david@freiraum-oederweg.de
URL:https://freiraum-oederweg.de/event/basketball-2/2024-11-09/
LOCATION:EZB Streetball Court\, Honsellstraße 7\, Frankfurt\, Hessen\, 60314
CATEGORIES:Fitness
ATTACH;FMTTYPE=image/jpeg:https://freiraum-oederweg.de/wp-content/uploads/2022/07/THMB-websites4.jpg
ORGANIZER;CN="David":MAILTO:david@freiraum-oederweg.de
END:VEVENT
BEGIN:VEVENT
DTSTART;TZID=Europe/Berlin:20241102T093000
DTEND;TZID=Europe/Berlin:20241102T110000
DTSTAMP:20260421T151315
CREATED:20240307T101627Z
LAST-MODIFIED:20241129T121123Z
UID:10000937-1730539800-1730545200@freiraum-oederweg.de
SUMMARY:Basketball@EZB
DESCRIPTION:Der frühe Vogel fängt den Rebound!\nWir treffen uns regelmäßig am Samstagmorgen bei gutem Wetter zum Basketballspielen an den Courts der EZB (ca. 8.30-10.30 Uhr). Nach einer kurzen Aufwärmphase spielen wird in kleinen Mannschaften Streetball. Oft stoßen noch spontan andere Spieler vor Ort dazu.Bis Mitte Oktober sind wir noch draußen! \nKontakt: david@freiraum-oederweg.de
URL:https://freiraum-oederweg.de/event/basketball-2/2024-11-02/
LOCATION:EZB Streetball Court\, Honsellstraße 7\, Frankfurt\, Hessen\, 60314
CATEGORIES:Fitness
ATTACH;FMTTYPE=image/jpeg:https://freiraum-oederweg.de/wp-content/uploads/2022/07/THMB-websites4.jpg
ORGANIZER;CN="David":MAILTO:david@freiraum-oederweg.de
END:VEVENT
BEGIN:VEVENT
DTSTART;TZID=Europe/Berlin:20241026T103000
DTEND;TZID=Europe/Berlin:20241026T120000
DTSTAMP:20260421T151315
CREATED:20240307T101627Z
LAST-MODIFIED:20241129T121123Z
UID:10000936-1729938600-1729944000@freiraum-oederweg.de
SUMMARY:Basketball@EZB
DESCRIPTION:Der frühe Vogel fängt den Rebound!\nWir treffen uns regelmäßig am Samstagmorgen bei gutem Wetter zum Basketballspielen an den Courts der EZB (ca. 8.30-10.30 Uhr). Nach einer kurzen Aufwärmphase spielen wird in kleinen Mannschaften Streetball. Oft stoßen noch spontan andere Spieler vor Ort dazu.Bis Mitte Oktober sind wir noch draußen! \nKontakt: david@freiraum-oederweg.de
URL:https://freiraum-oederweg.de/event/basketball-2/2024-10-26/
LOCATION:EZB Streetball Court\, Honsellstraße 7\, Frankfurt\, Hessen\, 60314
CATEGORIES:Fitness
ATTACH;FMTTYPE=image/jpeg:https://freiraum-oederweg.de/wp-content/uploads/2022/07/THMB-websites4.jpg
ORGANIZER;CN="David":MAILTO:david@freiraum-oederweg.de
END:VEVENT
BEGIN:VEVENT
DTSTART;TZID=Europe/Berlin:20241019T103000
DTEND;TZID=Europe/Berlin:20241019T120000
DTSTAMP:20260421T151315
CREATED:20240307T101627Z
LAST-MODIFIED:20241129T121123Z
UID:10000935-1729333800-1729339200@freiraum-oederweg.de
SUMMARY:Basketball@EZB
DESCRIPTION:Der frühe Vogel fängt den Rebound!\nWir treffen uns regelmäßig am Samstagmorgen bei gutem Wetter zum Basketballspielen an den Courts der EZB (ca. 8.30-10.30 Uhr). Nach einer kurzen Aufwärmphase spielen wird in kleinen Mannschaften Streetball. Oft stoßen noch spontan andere Spieler vor Ort dazu.Bis Mitte Oktober sind wir noch draußen! \nKontakt: david@freiraum-oederweg.de
URL:https://freiraum-oederweg.de/event/basketball-2/2024-10-19/
LOCATION:EZB Streetball Court\, Honsellstraße 7\, Frankfurt\, Hessen\, 60314
CATEGORIES:Fitness
ATTACH;FMTTYPE=image/jpeg:https://freiraum-oederweg.de/wp-content/uploads/2022/07/THMB-websites4.jpg
ORGANIZER;CN="David":MAILTO:david@freiraum-oederweg.de
END:VEVENT
BEGIN:VEVENT
DTSTART;TZID=Europe/Berlin:20241012T103000
DTEND;TZID=Europe/Berlin:20241012T120000
DTSTAMP:20260421T151315
CREATED:20240307T101627Z
LAST-MODIFIED:20241129T121123Z
UID:10000934-1728729000-1728734400@freiraum-oederweg.de
SUMMARY:Basketball@EZB
DESCRIPTION:Der frühe Vogel fängt den Rebound!\nWir treffen uns regelmäßig am Samstagmorgen bei gutem Wetter zum Basketballspielen an den Courts der EZB (ca. 8.30-10.30 Uhr). Nach einer kurzen Aufwärmphase spielen wird in kleinen Mannschaften Streetball. Oft stoßen noch spontan andere Spieler vor Ort dazu.Bis Mitte Oktober sind wir noch draußen! \nKontakt: david@freiraum-oederweg.de
URL:https://freiraum-oederweg.de/event/basketball-2/2024-10-12/
LOCATION:EZB Streetball Court\, Honsellstraße 7\, Frankfurt\, Hessen\, 60314
CATEGORIES:Fitness
ATTACH;FMTTYPE=image/jpeg:https://freiraum-oederweg.de/wp-content/uploads/2022/07/THMB-websites4.jpg
ORGANIZER;CN="David":MAILTO:david@freiraum-oederweg.de
END:VEVENT
BEGIN:VEVENT
DTSTART;TZID=Europe/Berlin:20241005T103000
DTEND;TZID=Europe/Berlin:20241005T120000
DTSTAMP:20260421T151315
CREATED:20240307T101627Z
LAST-MODIFIED:20241129T121123Z
UID:10000933-1728124200-1728129600@freiraum-oederweg.de
SUMMARY:Basketball@EZB
DESCRIPTION:Der frühe Vogel fängt den Rebound!\nWir treffen uns regelmäßig am Samstagmorgen bei gutem Wetter zum Basketballspielen an den Courts der EZB (ca. 8.30-10.30 Uhr). Nach einer kurzen Aufwärmphase spielen wird in kleinen Mannschaften Streetball. Oft stoßen noch spontan andere Spieler vor Ort dazu.Bis Mitte Oktober sind wir noch draußen! \nKontakt: david@freiraum-oederweg.de
URL:https://freiraum-oederweg.de/event/basketball-2/2024-10-05/
LOCATION:EZB Streetball Court\, Honsellstraße 7\, Frankfurt\, Hessen\, 60314
CATEGORIES:Fitness
ATTACH;FMTTYPE=image/jpeg:https://freiraum-oederweg.de/wp-content/uploads/2022/07/THMB-websites4.jpg
ORGANIZER;CN="David":MAILTO:david@freiraum-oederweg.de
END:VEVENT
BEGIN:VEVENT
DTSTART;TZID=Europe/Berlin:20240928T103000
DTEND;TZID=Europe/Berlin:20240928T120000
DTSTAMP:20260421T151315
CREATED:20240307T101627Z
LAST-MODIFIED:20241129T121123Z
UID:10000932-1727519400-1727524800@freiraum-oederweg.de
SUMMARY:Basketball@EZB
DESCRIPTION:Der frühe Vogel fängt den Rebound!\nWir treffen uns regelmäßig am Samstagmorgen bei gutem Wetter zum Basketballspielen an den Courts der EZB (ca. 8.30-10.30 Uhr). Nach einer kurzen Aufwärmphase spielen wird in kleinen Mannschaften Streetball. Oft stoßen noch spontan andere Spieler vor Ort dazu.Bis Mitte Oktober sind wir noch draußen! \nKontakt: david@freiraum-oederweg.de
URL:https://freiraum-oederweg.de/event/basketball-2/2024-09-28/
LOCATION:EZB Streetball Court\, Honsellstraße 7\, Frankfurt\, Hessen\, 60314
CATEGORIES:Fitness
ATTACH;FMTTYPE=image/jpeg:https://freiraum-oederweg.de/wp-content/uploads/2022/07/THMB-websites4.jpg
ORGANIZER;CN="David":MAILTO:david@freiraum-oederweg.de
END:VEVENT
BEGIN:VEVENT
DTSTART;TZID=Europe/Berlin:20240921T103000
DTEND;TZID=Europe/Berlin:20240921T120000
DTSTAMP:20260421T151315
CREATED:20240307T101627Z
LAST-MODIFIED:20241129T121123Z
UID:10000931-1726914600-1726920000@freiraum-oederweg.de
SUMMARY:Basketball@EZB
DESCRIPTION:Der frühe Vogel fängt den Rebound!\nWir treffen uns regelmäßig am Samstagmorgen bei gutem Wetter zum Basketballspielen an den Courts der EZB (ca. 8.30-10.30 Uhr). Nach einer kurzen Aufwärmphase spielen wird in kleinen Mannschaften Streetball. Oft stoßen noch spontan andere Spieler vor Ort dazu.Bis Mitte Oktober sind wir noch draußen! \nKontakt: david@freiraum-oederweg.de
URL:https://freiraum-oederweg.de/event/basketball-2/2024-09-21/
LOCATION:EZB Streetball Court\, Honsellstraße 7\, Frankfurt\, Hessen\, 60314
CATEGORIES:Fitness
ATTACH;FMTTYPE=image/jpeg:https://freiraum-oederweg.de/wp-content/uploads/2022/07/THMB-websites4.jpg
ORGANIZER;CN="David":MAILTO:david@freiraum-oederweg.de
END:VEVENT
BEGIN:VEVENT
DTSTART;TZID=Europe/Berlin:20240914T103000
DTEND;TZID=Europe/Berlin:20240914T120000
DTSTAMP:20260421T151315
CREATED:20240307T101627Z
LAST-MODIFIED:20241129T121123Z
UID:10000930-1726309800-1726315200@freiraum-oederweg.de
SUMMARY:Basketball@EZB
DESCRIPTION:Der frühe Vogel fängt den Rebound!\nWir treffen uns regelmäßig am Samstagmorgen bei gutem Wetter zum Basketballspielen an den Courts der EZB (ca. 8.30-10.30 Uhr). Nach einer kurzen Aufwärmphase spielen wird in kleinen Mannschaften Streetball. Oft stoßen noch spontan andere Spieler vor Ort dazu.Bis Mitte Oktober sind wir noch draußen! \nKontakt: david@freiraum-oederweg.de
URL:https://freiraum-oederweg.de/event/basketball-2/2024-09-14/
LOCATION:EZB Streetball Court\, Honsellstraße 7\, Frankfurt\, Hessen\, 60314
CATEGORIES:Fitness
ATTACH;FMTTYPE=image/jpeg:https://freiraum-oederweg.de/wp-content/uploads/2022/07/THMB-websites4.jpg
ORGANIZER;CN="David":MAILTO:david@freiraum-oederweg.de
END:VEVENT
BEGIN:VEVENT
DTSTART;TZID=Europe/Berlin:20240907T103000
DTEND;TZID=Europe/Berlin:20240907T120000
DTSTAMP:20260421T151315
CREATED:20240307T101627Z
LAST-MODIFIED:20241129T121123Z
UID:10000929-1725705000-1725710400@freiraum-oederweg.de
SUMMARY:Basketball@EZB
DESCRIPTION:Der frühe Vogel fängt den Rebound!\nWir treffen uns regelmäßig am Samstagmorgen bei gutem Wetter zum Basketballspielen an den Courts der EZB (ca. 8.30-10.30 Uhr). Nach einer kurzen Aufwärmphase spielen wird in kleinen Mannschaften Streetball. Oft stoßen noch spontan andere Spieler vor Ort dazu.Bis Mitte Oktober sind wir noch draußen! \nKontakt: david@freiraum-oederweg.de
URL:https://freiraum-oederweg.de/event/basketball-2/2024-09-07/
LOCATION:EZB Streetball Court\, Honsellstraße 7\, Frankfurt\, Hessen\, 60314
CATEGORIES:Fitness
ATTACH;FMTTYPE=image/jpeg:https://freiraum-oederweg.de/wp-content/uploads/2022/07/THMB-websites4.jpg
ORGANIZER;CN="David":MAILTO:david@freiraum-oederweg.de
END:VEVENT
BEGIN:VEVENT
DTSTART;TZID=Europe/Berlin:20240831T103000
DTEND;TZID=Europe/Berlin:20240831T120000
DTSTAMP:20260421T151315
CREATED:20240307T101627Z
LAST-MODIFIED:20241129T121123Z
UID:10000928-1725100200-1725105600@freiraum-oederweg.de
SUMMARY:Basketball@EZB
DESCRIPTION:Der frühe Vogel fängt den Rebound!\nWir treffen uns regelmäßig am Samstagmorgen bei gutem Wetter zum Basketballspielen an den Courts der EZB (ca. 8.30-10.30 Uhr). Nach einer kurzen Aufwärmphase spielen wird in kleinen Mannschaften Streetball. Oft stoßen noch spontan andere Spieler vor Ort dazu.Bis Mitte Oktober sind wir noch draußen! \nKontakt: david@freiraum-oederweg.de
URL:https://freiraum-oederweg.de/event/basketball-2/2024-08-31/
LOCATION:EZB Streetball Court\, Honsellstraße 7\, Frankfurt\, Hessen\, 60314
CATEGORIES:Fitness
ATTACH;FMTTYPE=image/jpeg:https://freiraum-oederweg.de/wp-content/uploads/2022/07/THMB-websites4.jpg
ORGANIZER;CN="David":MAILTO:david@freiraum-oederweg.de
END:VEVENT
BEGIN:VEVENT
DTSTART;TZID=Europe/Berlin:20240824T103000
DTEND;TZID=Europe/Berlin:20240824T120000
DTSTAMP:20260421T151315
CREATED:20240307T101627Z
LAST-MODIFIED:20241129T121123Z
UID:10000927-1724495400-1724500800@freiraum-oederweg.de
SUMMARY:Basketball@EZB
DESCRIPTION:Der frühe Vogel fängt den Rebound!\nWir treffen uns regelmäßig am Samstagmorgen bei gutem Wetter zum Basketballspielen an den Courts der EZB (ca. 8.30-10.30 Uhr). Nach einer kurzen Aufwärmphase spielen wird in kleinen Mannschaften Streetball. Oft stoßen noch spontan andere Spieler vor Ort dazu.Bis Mitte Oktober sind wir noch draußen! \nKontakt: david@freiraum-oederweg.de
URL:https://freiraum-oederweg.de/event/basketball-2/2024-08-24/
LOCATION:EZB Streetball Court\, Honsellstraße 7\, Frankfurt\, Hessen\, 60314
CATEGORIES:Fitness
ATTACH;FMTTYPE=image/jpeg:https://freiraum-oederweg.de/wp-content/uploads/2022/07/THMB-websites4.jpg
ORGANIZER;CN="David":MAILTO:david@freiraum-oederweg.de
END:VEVENT
BEGIN:VEVENT
DTSTART;TZID=Europe/Berlin:20240720T103000
DTEND;TZID=Europe/Berlin:20240720T120000
DTSTAMP:20260421T151315
CREATED:20240307T101627Z
LAST-MODIFIED:20241129T121123Z
UID:10000926-1721471400-1721476800@freiraum-oederweg.de
SUMMARY:Basketball@EZB
DESCRIPTION:Der frühe Vogel fängt den Rebound!\nWir treffen uns regelmäßig am Samstagmorgen bei gutem Wetter zum Basketballspielen an den Courts der EZB (ca. 8.30-10.30 Uhr). Nach einer kurzen Aufwärmphase spielen wird in kleinen Mannschaften Streetball. Oft stoßen noch spontan andere Spieler vor Ort dazu.Bis Mitte Oktober sind wir noch draußen! \nKontakt: david@freiraum-oederweg.de
URL:https://freiraum-oederweg.de/event/basketball-2/2024-07-20/
LOCATION:EZB Streetball Court\, Honsellstraße 7\, Frankfurt\, Hessen\, 60314
CATEGORIES:Fitness
ATTACH;FMTTYPE=image/jpeg:https://freiraum-oederweg.de/wp-content/uploads/2022/07/THMB-websites4.jpg
ORGANIZER;CN="David":MAILTO:david@freiraum-oederweg.de
END:VEVENT
BEGIN:VEVENT
DTSTART;TZID=Europe/Berlin:20240713T103000
DTEND;TZID=Europe/Berlin:20240713T120000
DTSTAMP:20260421T151315
CREATED:20240307T101627Z
LAST-MODIFIED:20241129T121123Z
UID:10000925-1720866600-1720872000@freiraum-oederweg.de
SUMMARY:Basketball@EZB
DESCRIPTION:Der frühe Vogel fängt den Rebound!\nWir treffen uns regelmäßig am Samstagmorgen bei gutem Wetter zum Basketballspielen an den Courts der EZB (ca. 8.30-10.30 Uhr). Nach einer kurzen Aufwärmphase spielen wird in kleinen Mannschaften Streetball. Oft stoßen noch spontan andere Spieler vor Ort dazu.Bis Mitte Oktober sind wir noch draußen! \nKontakt: david@freiraum-oederweg.de
URL:https://freiraum-oederweg.de/event/basketball-2/2024-07-13/
LOCATION:EZB Streetball Court\, Honsellstraße 7\, Frankfurt\, Hessen\, 60314
CATEGORIES:Fitness
ATTACH;FMTTYPE=image/jpeg:https://freiraum-oederweg.de/wp-content/uploads/2022/07/THMB-websites4.jpg
ORGANIZER;CN="David":MAILTO:david@freiraum-oederweg.de
END:VEVENT
BEGIN:VEVENT
DTSTART;TZID=Europe/Berlin:20240711T190000
DTEND;TZID=Europe/Berlin:20240711T210000
DTSTAMP:20260421T151315
CREATED:20240307T102801Z
LAST-MODIFIED:20241129T120931Z
UID:10001043-1720724400-1720731600@freiraum-oederweg.de
SUMMARY:Fußballgruppe @FCSF
DESCRIPTION:Komm mit uns Kicken!\nWir treffen uns regelmäßig in der Sporthalle der Freien Christlichen Schule Frankfurt (in Fechenheim) zum Kicken. \nOrt: Freie Christliche Schule Frankfurt\, Orber Str. 4\, 60386 Frankfurt am Main
URL:https://freiraum-oederweg.de/event/fussballgruppe-fcsf/2024-07-11/
LOCATION:Sporthalle Freie Christliche Schule Frankfurt\, Orber Str. 4\, Frankfurt am Main\, Hessen\, 60386\, Deutschland
CATEGORIES:Fitness
ATTACH;FMTTYPE=image/jpeg:https://freiraum-oederweg.de/wp-content/uploads/2024/03/Fussball.jpg
END:VEVENT
BEGIN:VEVENT
DTSTART;TZID=Europe/Berlin:20240706T103000
DTEND;TZID=Europe/Berlin:20240706T120000
DTSTAMP:20260421T151315
CREATED:20240307T101627Z
LAST-MODIFIED:20241129T121123Z
UID:10000924-1720261800-1720267200@freiraum-oederweg.de
SUMMARY:Basketball@EZB
DESCRIPTION:Der frühe Vogel fängt den Rebound!\nWir treffen uns regelmäßig am Samstagmorgen bei gutem Wetter zum Basketballspielen an den Courts der EZB (ca. 8.30-10.30 Uhr). Nach einer kurzen Aufwärmphase spielen wird in kleinen Mannschaften Streetball. Oft stoßen noch spontan andere Spieler vor Ort dazu.Bis Mitte Oktober sind wir noch draußen! \nKontakt: david@freiraum-oederweg.de
URL:https://freiraum-oederweg.de/event/basketball-2/2024-07-06/
LOCATION:EZB Streetball Court\, Honsellstraße 7\, Frankfurt\, Hessen\, 60314
CATEGORIES:Fitness
ATTACH;FMTTYPE=image/jpeg:https://freiraum-oederweg.de/wp-content/uploads/2022/07/THMB-websites4.jpg
ORGANIZER;CN="David":MAILTO:david@freiraum-oederweg.de
END:VEVENT
BEGIN:VEVENT
DTSTART;TZID=Europe/Berlin:20240704T190000
DTEND;TZID=Europe/Berlin:20240704T210000
DTSTAMP:20260421T151315
CREATED:20240307T102801Z
LAST-MODIFIED:20241129T120931Z
UID:10001042-1720119600-1720126800@freiraum-oederweg.de
SUMMARY:Fußballgruppe @FCSF
DESCRIPTION:Komm mit uns Kicken!\nWir treffen uns regelmäßig in der Sporthalle der Freien Christlichen Schule Frankfurt (in Fechenheim) zum Kicken. \nOrt: Freie Christliche Schule Frankfurt\, Orber Str. 4\, 60386 Frankfurt am Main
URL:https://freiraum-oederweg.de/event/fussballgruppe-fcsf/2024-07-04/
LOCATION:Sporthalle Freie Christliche Schule Frankfurt\, Orber Str. 4\, Frankfurt am Main\, Hessen\, 60386\, Deutschland
CATEGORIES:Fitness
ATTACH;FMTTYPE=image/jpeg:https://freiraum-oederweg.de/wp-content/uploads/2024/03/Fussball.jpg
END:VEVENT
BEGIN:VEVENT
DTSTART;TZID=Europe/Berlin:20240629T103000
DTEND;TZID=Europe/Berlin:20240629T120000
DTSTAMP:20260421T151315
CREATED:20240307T101627Z
LAST-MODIFIED:20241129T121123Z
UID:10000923-1719657000-1719662400@freiraum-oederweg.de
SUMMARY:Basketball@EZB
DESCRIPTION:Der frühe Vogel fängt den Rebound!\nWir treffen uns regelmäßig am Samstagmorgen bei gutem Wetter zum Basketballspielen an den Courts der EZB (ca. 8.30-10.30 Uhr). Nach einer kurzen Aufwärmphase spielen wird in kleinen Mannschaften Streetball. Oft stoßen noch spontan andere Spieler vor Ort dazu.Bis Mitte Oktober sind wir noch draußen! \nKontakt: david@freiraum-oederweg.de
URL:https://freiraum-oederweg.de/event/basketball-2/2024-06-29/
LOCATION:EZB Streetball Court\, Honsellstraße 7\, Frankfurt\, Hessen\, 60314
CATEGORIES:Fitness
ATTACH;FMTTYPE=image/jpeg:https://freiraum-oederweg.de/wp-content/uploads/2022/07/THMB-websites4.jpg
ORGANIZER;CN="David":MAILTO:david@freiraum-oederweg.de
END:VEVENT
BEGIN:VEVENT
DTSTART;TZID=Europe/Berlin:20240627T190000
DTEND;TZID=Europe/Berlin:20240627T210000
DTSTAMP:20260421T151315
CREATED:20240307T102801Z
LAST-MODIFIED:20241129T120931Z
UID:10001041-1719514800-1719522000@freiraum-oederweg.de
SUMMARY:Fußballgruppe @FCSF
DESCRIPTION:Komm mit uns Kicken!\nWir treffen uns regelmäßig in der Sporthalle der Freien Christlichen Schule Frankfurt (in Fechenheim) zum Kicken. \nOrt: Freie Christliche Schule Frankfurt\, Orber Str. 4\, 60386 Frankfurt am Main
URL:https://freiraum-oederweg.de/event/fussballgruppe-fcsf/2024-06-27/
LOCATION:Sporthalle Freie Christliche Schule Frankfurt\, Orber Str. 4\, Frankfurt am Main\, Hessen\, 60386\, Deutschland
CATEGORIES:Fitness
ATTACH;FMTTYPE=image/jpeg:https://freiraum-oederweg.de/wp-content/uploads/2024/03/Fussball.jpg
END:VEVENT
BEGIN:VEVENT
DTSTART;TZID=Europe/Berlin:20240622T103000
DTEND;TZID=Europe/Berlin:20240622T120000
DTSTAMP:20260421T151315
CREATED:20240307T101627Z
LAST-MODIFIED:20241129T121123Z
UID:10000922-1719052200-1719057600@freiraum-oederweg.de
SUMMARY:Basketball@EZB
DESCRIPTION:Der frühe Vogel fängt den Rebound!\nWir treffen uns regelmäßig am Samstagmorgen bei gutem Wetter zum Basketballspielen an den Courts der EZB (ca. 8.30-10.30 Uhr). Nach einer kurzen Aufwärmphase spielen wird in kleinen Mannschaften Streetball. Oft stoßen noch spontan andere Spieler vor Ort dazu.Bis Mitte Oktober sind wir noch draußen! \nKontakt: david@freiraum-oederweg.de
URL:https://freiraum-oederweg.de/event/basketball-2/2024-06-22/
LOCATION:EZB Streetball Court\, Honsellstraße 7\, Frankfurt\, Hessen\, 60314
CATEGORIES:Fitness
ATTACH;FMTTYPE=image/jpeg:https://freiraum-oederweg.de/wp-content/uploads/2022/07/THMB-websites4.jpg
ORGANIZER;CN="David":MAILTO:david@freiraum-oederweg.de
END:VEVENT
BEGIN:VEVENT
DTSTART;TZID=Europe/Berlin:20240620T190000
DTEND;TZID=Europe/Berlin:20240620T210000
DTSTAMP:20260421T151315
CREATED:20240307T102801Z
LAST-MODIFIED:20241129T120931Z
UID:10001040-1718910000-1718917200@freiraum-oederweg.de
SUMMARY:Fußballgruppe @FCSF
DESCRIPTION:Komm mit uns Kicken!\nWir treffen uns regelmäßig in der Sporthalle der Freien Christlichen Schule Frankfurt (in Fechenheim) zum Kicken. \nOrt: Freie Christliche Schule Frankfurt\, Orber Str. 4\, 60386 Frankfurt am Main
URL:https://freiraum-oederweg.de/event/fussballgruppe-fcsf/2024-06-20/
LOCATION:Sporthalle Freie Christliche Schule Frankfurt\, Orber Str. 4\, Frankfurt am Main\, Hessen\, 60386\, Deutschland
CATEGORIES:Fitness
ATTACH;FMTTYPE=image/jpeg:https://freiraum-oederweg.de/wp-content/uploads/2024/03/Fussball.jpg
END:VEVENT
BEGIN:VEVENT
DTSTART;TZID=Europe/Berlin:20240615T103000
DTEND;TZID=Europe/Berlin:20240615T120000
DTSTAMP:20260421T151315
CREATED:20240307T101627Z
LAST-MODIFIED:20241129T121123Z
UID:10000921-1718447400-1718452800@freiraum-oederweg.de
SUMMARY:Basketball@EZB
DESCRIPTION:Der frühe Vogel fängt den Rebound!\nWir treffen uns regelmäßig am Samstagmorgen bei gutem Wetter zum Basketballspielen an den Courts der EZB (ca. 8.30-10.30 Uhr). Nach einer kurzen Aufwärmphase spielen wird in kleinen Mannschaften Streetball. Oft stoßen noch spontan andere Spieler vor Ort dazu.Bis Mitte Oktober sind wir noch draußen! \nKontakt: david@freiraum-oederweg.de
URL:https://freiraum-oederweg.de/event/basketball-2/2024-06-15/
LOCATION:EZB Streetball Court\, Honsellstraße 7\, Frankfurt\, Hessen\, 60314
CATEGORIES:Fitness
ATTACH;FMTTYPE=image/jpeg:https://freiraum-oederweg.de/wp-content/uploads/2022/07/THMB-websites4.jpg
ORGANIZER;CN="David":MAILTO:david@freiraum-oederweg.de
END:VEVENT
BEGIN:VEVENT
DTSTART;TZID=Europe/Berlin:20240613T190000
DTEND;TZID=Europe/Berlin:20240613T210000
DTSTAMP:20260421T151315
CREATED:20240307T102801Z
LAST-MODIFIED:20241129T120931Z
UID:10001039-1718305200-1718312400@freiraum-oederweg.de
SUMMARY:Fußballgruppe @FCSF
DESCRIPTION:Komm mit uns Kicken!\nWir treffen uns regelmäßig in der Sporthalle der Freien Christlichen Schule Frankfurt (in Fechenheim) zum Kicken. \nOrt: Freie Christliche Schule Frankfurt\, Orber Str. 4\, 60386 Frankfurt am Main
URL:https://freiraum-oederweg.de/event/fussballgruppe-fcsf/2024-06-13/
LOCATION:Sporthalle Freie Christliche Schule Frankfurt\, Orber Str. 4\, Frankfurt am Main\, Hessen\, 60386\, Deutschland
CATEGORIES:Fitness
ATTACH;FMTTYPE=image/jpeg:https://freiraum-oederweg.de/wp-content/uploads/2024/03/Fussball.jpg
END:VEVENT
BEGIN:VEVENT
DTSTART;TZID=Europe/Berlin:20240608T103000
DTEND;TZID=Europe/Berlin:20240608T120000
DTSTAMP:20260421T151315
CREATED:20240307T101627Z
LAST-MODIFIED:20241129T121123Z
UID:10000920-1717842600-1717848000@freiraum-oederweg.de
SUMMARY:Basketball@EZB
DESCRIPTION:Der frühe Vogel fängt den Rebound!\nWir treffen uns regelmäßig am Samstagmorgen bei gutem Wetter zum Basketballspielen an den Courts der EZB (ca. 8.30-10.30 Uhr). Nach einer kurzen Aufwärmphase spielen wird in kleinen Mannschaften Streetball. Oft stoßen noch spontan andere Spieler vor Ort dazu.Bis Mitte Oktober sind wir noch draußen! \nKontakt: david@freiraum-oederweg.de
URL:https://freiraum-oederweg.de/event/basketball-2/2024-06-08/
LOCATION:EZB Streetball Court\, Honsellstraße 7\, Frankfurt\, Hessen\, 60314
CATEGORIES:Fitness
ATTACH;FMTTYPE=image/jpeg:https://freiraum-oederweg.de/wp-content/uploads/2022/07/THMB-websites4.jpg
ORGANIZER;CN="David":MAILTO:david@freiraum-oederweg.de
END:VEVENT
BEGIN:VEVENT
DTSTART;TZID=Europe/Berlin:20240606T190000
DTEND;TZID=Europe/Berlin:20240606T210000
DTSTAMP:20260421T151315
CREATED:20240307T102801Z
LAST-MODIFIED:20241129T120931Z
UID:10001038-1717700400-1717707600@freiraum-oederweg.de
SUMMARY:Fußballgruppe @FCSF
DESCRIPTION:Komm mit uns Kicken!\nWir treffen uns regelmäßig in der Sporthalle der Freien Christlichen Schule Frankfurt (in Fechenheim) zum Kicken. \nOrt: Freie Christliche Schule Frankfurt\, Orber Str. 4\, 60386 Frankfurt am Main
URL:https://freiraum-oederweg.de/event/fussballgruppe-fcsf/2024-06-06/
LOCATION:Sporthalle Freie Christliche Schule Frankfurt\, Orber Str. 4\, Frankfurt am Main\, Hessen\, 60386\, Deutschland
CATEGORIES:Fitness
ATTACH;FMTTYPE=image/jpeg:https://freiraum-oederweg.de/wp-content/uploads/2024/03/Fussball.jpg
END:VEVENT
BEGIN:VEVENT
DTSTART;TZID=Europe/Berlin:20240601T103000
DTEND;TZID=Europe/Berlin:20240601T120000
DTSTAMP:20260421T151315
CREATED:20240307T101627Z
LAST-MODIFIED:20241129T121123Z
UID:10000919-1717237800-1717243200@freiraum-oederweg.de
SUMMARY:Basketball@EZB
DESCRIPTION:Der frühe Vogel fängt den Rebound!\nWir treffen uns regelmäßig am Samstagmorgen bei gutem Wetter zum Basketballspielen an den Courts der EZB (ca. 8.30-10.30 Uhr). Nach einer kurzen Aufwärmphase spielen wird in kleinen Mannschaften Streetball. Oft stoßen noch spontan andere Spieler vor Ort dazu.Bis Mitte Oktober sind wir noch draußen! \nKontakt: david@freiraum-oederweg.de
URL:https://freiraum-oederweg.de/event/basketball-2/2024-06-01/
LOCATION:EZB Streetball Court\, Honsellstraße 7\, Frankfurt\, Hessen\, 60314
CATEGORIES:Fitness
ATTACH;FMTTYPE=image/jpeg:https://freiraum-oederweg.de/wp-content/uploads/2022/07/THMB-websites4.jpg
ORGANIZER;CN="David":MAILTO:david@freiraum-oederweg.de
END:VEVENT
BEGIN:VEVENT
DTSTART;TZID=Europe/Berlin:20240530T190000
DTEND;TZID=Europe/Berlin:20240530T210000
DTSTAMP:20260421T151315
CREATED:20240307T102801Z
LAST-MODIFIED:20241129T120931Z
UID:10001037-1717095600-1717102800@freiraum-oederweg.de
SUMMARY:Fußballgruppe @FCSF
DESCRIPTION:Komm mit uns Kicken!\nWir treffen uns regelmäßig in der Sporthalle der Freien Christlichen Schule Frankfurt (in Fechenheim) zum Kicken. \nOrt: Freie Christliche Schule Frankfurt\, Orber Str. 4\, 60386 Frankfurt am Main
URL:https://freiraum-oederweg.de/event/fussballgruppe-fcsf/2024-05-30/
LOCATION:Sporthalle Freie Christliche Schule Frankfurt\, Orber Str. 4\, Frankfurt am Main\, Hessen\, 60386\, Deutschland
CATEGORIES:Fitness
ATTACH;FMTTYPE=image/jpeg:https://freiraum-oederweg.de/wp-content/uploads/2024/03/Fussball.jpg
END:VEVENT
BEGIN:VEVENT
DTSTART;TZID=Europe/Berlin:20240525T103000
DTEND;TZID=Europe/Berlin:20240525T120000
DTSTAMP:20260421T151315
CREATED:20240307T101627Z
LAST-MODIFIED:20241129T121123Z
UID:10000918-1716633000-1716638400@freiraum-oederweg.de
SUMMARY:Basketball@EZB
DESCRIPTION:Der frühe Vogel fängt den Rebound!\nWir treffen uns regelmäßig am Samstagmorgen bei gutem Wetter zum Basketballspielen an den Courts der EZB (ca. 8.30-10.30 Uhr). Nach einer kurzen Aufwärmphase spielen wird in kleinen Mannschaften Streetball. Oft stoßen noch spontan andere Spieler vor Ort dazu.Bis Mitte Oktober sind wir noch draußen! \nKontakt: david@freiraum-oederweg.de
URL:https://freiraum-oederweg.de/event/basketball-2/2024-05-25/
LOCATION:EZB Streetball Court\, Honsellstraße 7\, Frankfurt\, Hessen\, 60314
CATEGORIES:Fitness
ATTACH;FMTTYPE=image/jpeg:https://freiraum-oederweg.de/wp-content/uploads/2022/07/THMB-websites4.jpg
ORGANIZER;CN="David":MAILTO:david@freiraum-oederweg.de
END:VEVENT
BEGIN:VEVENT
DTSTART;TZID=Europe/Berlin:20240523T190000
DTEND;TZID=Europe/Berlin:20240523T210000
DTSTAMP:20260421T151315
CREATED:20240307T102801Z
LAST-MODIFIED:20241129T120931Z
UID:10001036-1716490800-1716498000@freiraum-oederweg.de
SUMMARY:Fußballgruppe @FCSF
DESCRIPTION:Komm mit uns Kicken!\nWir treffen uns regelmäßig in der Sporthalle der Freien Christlichen Schule Frankfurt (in Fechenheim) zum Kicken. \nOrt: Freie Christliche Schule Frankfurt\, Orber Str. 4\, 60386 Frankfurt am Main
URL:https://freiraum-oederweg.de/event/fussballgruppe-fcsf/2024-05-23/
LOCATION:Sporthalle Freie Christliche Schule Frankfurt\, Orber Str. 4\, Frankfurt am Main\, Hessen\, 60386\, Deutschland
CATEGORIES:Fitness
ATTACH;FMTTYPE=image/jpeg:https://freiraum-oederweg.de/wp-content/uploads/2024/03/Fussball.jpg
END:VEVENT
BEGIN:VEVENT
DTSTART;TZID=Europe/Berlin:20240518T103000
DTEND;TZID=Europe/Berlin:20240518T120000
DTSTAMP:20260421T151315
CREATED:20240307T101627Z
LAST-MODIFIED:20241129T121123Z
UID:10000917-1716028200-1716033600@freiraum-oederweg.de
SUMMARY:Basketball@EZB
DESCRIPTION:Der frühe Vogel fängt den Rebound!\nWir treffen uns regelmäßig am Samstagmorgen bei gutem Wetter zum Basketballspielen an den Courts der EZB (ca. 8.30-10.30 Uhr). Nach einer kurzen Aufwärmphase spielen wird in kleinen Mannschaften Streetball. Oft stoßen noch spontan andere Spieler vor Ort dazu.Bis Mitte Oktober sind wir noch draußen! \nKontakt: david@freiraum-oederweg.de
URL:https://freiraum-oederweg.de/event/basketball-2/2024-05-18/
LOCATION:EZB Streetball Court\, Honsellstraße 7\, Frankfurt\, Hessen\, 60314
CATEGORIES:Fitness
ATTACH;FMTTYPE=image/jpeg:https://freiraum-oederweg.de/wp-content/uploads/2022/07/THMB-websites4.jpg
ORGANIZER;CN="David":MAILTO:david@freiraum-oederweg.de
END:VEVENT
END:VCALENDAR