BEGIN:VCALENDAR
VERSION:2.0
PRODID:-//freiraum: Oeder Weg 6 - ECPv6.15.20//NONSGML v1.0//EN
CALSCALE:GREGORIAN
METHOD:PUBLISH
X-WR-CALNAME:freiraum: Oeder Weg 6
X-ORIGINAL-URL:https://freiraum-oederweg.de
X-WR-CALDESC:Veranstaltungen für freiraum: Oeder Weg 6
REFRESH-INTERVAL;VALUE=DURATION:PT1H
X-Robots-Tag:noindex
X-PUBLISHED-TTL:PT1H
BEGIN:VTIMEZONE
TZID:Europe/Berlin
BEGIN:DAYLIGHT
TZOFFSETFROM:+0100
TZOFFSETTO:+0200
TZNAME:CEST
DTSTART:20250330T010000
END:DAYLIGHT
BEGIN:STANDARD
TZOFFSETFROM:+0200
TZOFFSETTO:+0100
TZNAME:CET
DTSTART:20251026T010000
END:STANDARD
BEGIN:DAYLIGHT
TZOFFSETFROM:+0100
TZOFFSETTO:+0200
TZNAME:CEST
DTSTART:20260329T010000
END:DAYLIGHT
BEGIN:STANDARD
TZOFFSETFROM:+0200
TZOFFSETTO:+0100
TZNAME:CET
DTSTART:20261025T010000
END:STANDARD
BEGIN:DAYLIGHT
TZOFFSETFROM:+0100
TZOFFSETTO:+0200
TZNAME:CEST
DTSTART:20270328T010000
END:DAYLIGHT
BEGIN:STANDARD
TZOFFSETFROM:+0200
TZOFFSETTO:+0100
TZNAME:CET
DTSTART:20271031T010000
END:STANDARD
END:VTIMEZONE
BEGIN:VEVENT
DTSTART;TZID=Europe/Berlin:20260428T200000
DTEND;TZID=Europe/Berlin:20260428T223000
DTSTAMP:20260423T225731
CREATED:20240628T110903Z
LAST-MODIFIED:20260128T104342Z
UID:10001916-1777406400-1777415400@freiraum-oederweg.de
SUMMARY:Bartalk
DESCRIPTION:Gude Leute. Austausch auf Augenhöhe. Themen jenseits des Smalltalks.\nDas ist Bartalk – Bist du dabei?\nWas gibt dir Hoffnung? Was lässt dich morgens aufstehen? Was gibt deinem Leben Sinn? Warum arbeiten wir? Unter dem Motto „Deep Talks & Long Drinks“ treffen wir uns\, um in lockerer Atmosphäre die Grenzen des Smalltalks zu überwinden. Durch Zitate und hilfreiche Fragen tauschen wir uns miteinander aus. Egal ob religiös\, skeptisch\, rational oder etwas ganz anderes – jeder Mensch hat etwas zu sagen. Das wollen wir hören. Bist du dabei? \nDi\, 10.2. / 20 Uhr – „Lebendig?! Gibt es ein Leben vor dem Tod?“ \nDi\, 24.3. / 20 Uhr – „Gott im Alltag?“ \nDi\, 28.4. / 20 Uhr – „Alles zerfällt!? Wie umgehen mit Verlust?“ \nDo\, 28.5. / 20 Uhr – „Endlich alt?! Wie umgehen mit dem Altern?“\n \nMi\, 17.6. / 20 Uhr – „Wie möchte ich in Erinnerung bleiben?“ \nOrt: Zur Stalburg (Glauburgstraße 80)\nWir haben einen Tisch reserviert – es ist keine Voranmeldung nötig!
URL:https://freiraum-oederweg.de/event/bartalk-2026/2026-04-28/
LOCATION:Zur Stalburg\, Glauburgstraße 80\, Frankfurt am Main\, Hessen\, 60318\, Deutschland
CATEGORIES:Bartalk,Begegnungen,Themen
ATTACH;FMTTYPE=image/jpeg:https://freiraum-oederweg.de/wp-content/uploads/2023/02/Bar2.jpg
ORGANIZER;CN="freiraum%3A":MAILTO:info@freiraum-oederweg.de
END:VEVENT
BEGIN:VEVENT
DTSTART;TZID=Europe/Berlin:20260528T200000
DTEND;TZID=Europe/Berlin:20260528T223000
DTSTAMP:20260423T225731
CREATED:20240628T110903Z
LAST-MODIFIED:20260128T104342Z
UID:10001917-1779998400-1780007400@freiraum-oederweg.de
SUMMARY:Bartalk
DESCRIPTION:Gude Leute. Austausch auf Augenhöhe. Themen jenseits des Smalltalks.\nDas ist Bartalk – Bist du dabei?\nWas gibt dir Hoffnung? Was lässt dich morgens aufstehen? Was gibt deinem Leben Sinn? Warum arbeiten wir? Unter dem Motto „Deep Talks & Long Drinks“ treffen wir uns\, um in lockerer Atmosphäre die Grenzen des Smalltalks zu überwinden. Durch Zitate und hilfreiche Fragen tauschen wir uns miteinander aus. Egal ob religiös\, skeptisch\, rational oder etwas ganz anderes – jeder Mensch hat etwas zu sagen. Das wollen wir hören. Bist du dabei? \nDi\, 10.2. / 20 Uhr – „Lebendig?! Gibt es ein Leben vor dem Tod?“ \nDi\, 24.3. / 20 Uhr – „Gott im Alltag?“ \nDi\, 28.4. / 20 Uhr – „Alles zerfällt!? Wie umgehen mit Verlust?“ \nDo\, 28.5. / 20 Uhr – „Endlich alt?! Wie umgehen mit dem Altern?“\n \nMi\, 17.6. / 20 Uhr – „Wie möchte ich in Erinnerung bleiben?“ \nOrt: Zur Stalburg (Glauburgstraße 80)\nWir haben einen Tisch reserviert – es ist keine Voranmeldung nötig!
URL:https://freiraum-oederweg.de/event/bartalk-2026/2026-05-28/
LOCATION:Zur Stalburg\, Glauburgstraße 80\, Frankfurt am Main\, Hessen\, 60318\, Deutschland
CATEGORIES:Bartalk,Begegnungen,Themen
ATTACH;FMTTYPE=image/jpeg:https://freiraum-oederweg.de/wp-content/uploads/2023/02/Bar2.jpg
ORGANIZER;CN="freiraum%3A":MAILTO:info@freiraum-oederweg.de
END:VEVENT
BEGIN:VEVENT
DTSTART;TZID=Europe/Berlin:20260530T123000
DTEND;TZID=Europe/Berlin:20260530T150000
DTSTAMP:20260423T225731
CREATED:20250117T231926Z
LAST-MODIFIED:20260127T123618Z
UID:10001911-1780144200-1780153200@freiraum-oederweg.de
SUMMARY:tea.space Frankfurt
DESCRIPTION:Willkommen in unserem tea.space!\nZusammenkommen und Tee trinken wie in einem ostasiatischen Teehaus.\nEinmal im Quartal treffen wir uns von 12:30 – 15 Uhr im Herzen von Frankfurt am Main.\nWir freuen uns auf euch. \nAnmeldung gerne per Mail unter info@teaspace.de \nWir bitten um einen Unkostenbeitrag zwischen 5€ und 10€.\nEs müssen keine Utensilien oder Tee mitgebracht werden. \nInfos und Aktuelles unter: instagram.com/tea_space_frankfurt \nAktuelle Termine für 2026 \n21.02.2026\n30.05.2026\n22.08.2026\n05.12.2026
URL:https://freiraum-oederweg.de/event/teaspace-2026-2/2026-05-30/
LOCATION:freiraum:\, Oeder Weg 6\, Frankfurt\, 60318\, Deutschland
CATEGORIES:Begegnungen,tea.space
ATTACH;FMTTYPE=image/jpeg:https://freiraum-oederweg.de/wp-content/uploads/2025/01/TeaSpace-1.jpg
ORGANIZER;CN="tea.space":MAILTO:tea.space@freiraum-oederweg.de
END:VEVENT
BEGIN:VEVENT
DTSTART;TZID=Europe/Berlin:20260617T200000
DTEND;TZID=Europe/Berlin:20260617T220000
DTSTAMP:20260423T225731
CREATED:20240628T110903Z
LAST-MODIFIED:20260128T104342Z
UID:10001918-1781726400-1781733600@freiraum-oederweg.de
SUMMARY:Bartalk
DESCRIPTION:Gude Leute. Austausch auf Augenhöhe. Themen jenseits des Smalltalks.\nDas ist Bartalk – Bist du dabei?\nWas gibt dir Hoffnung? Was lässt dich morgens aufstehen? Was gibt deinem Leben Sinn? Warum arbeiten wir? Unter dem Motto „Deep Talks & Long Drinks“ treffen wir uns\, um in lockerer Atmosphäre die Grenzen des Smalltalks zu überwinden. Durch Zitate und hilfreiche Fragen tauschen wir uns miteinander aus. Egal ob religiös\, skeptisch\, rational oder etwas ganz anderes – jeder Mensch hat etwas zu sagen. Das wollen wir hören. Bist du dabei? \nDi\, 10.2. / 20 Uhr – „Lebendig?! Gibt es ein Leben vor dem Tod?“ \nDi\, 24.3. / 20 Uhr – „Gott im Alltag?“ \nDi\, 28.4. / 20 Uhr – „Alles zerfällt!? Wie umgehen mit Verlust?“ \nDo\, 28.5. / 20 Uhr – „Endlich alt?! Wie umgehen mit dem Altern?“\n \nMi\, 17.6. / 20 Uhr – „Wie möchte ich in Erinnerung bleiben?“ \nOrt: Zur Stalburg (Glauburgstraße 80)\nWir haben einen Tisch reserviert – es ist keine Voranmeldung nötig!
URL:https://freiraum-oederweg.de/event/bartalk-2026/2026-06-17/
LOCATION:Zur Stalburg\, Glauburgstraße 80\, Frankfurt am Main\, Hessen\, 60318\, Deutschland
CATEGORIES:Bartalk,Begegnungen,Themen
ATTACH;FMTTYPE=image/jpeg:https://freiraum-oederweg.de/wp-content/uploads/2023/02/Bar2.jpg
ORGANIZER;CN="freiraum%3A":MAILTO:info@freiraum-oederweg.de
END:VEVENT
BEGIN:VEVENT
DTSTART;TZID=Europe/Berlin:20260822T123000
DTEND;TZID=Europe/Berlin:20260822T150000
DTSTAMP:20260423T225731
CREATED:20250117T231926Z
LAST-MODIFIED:20260127T123618Z
UID:10001912-1787401800-1787410800@freiraum-oederweg.de
SUMMARY:tea.space Frankfurt
DESCRIPTION:Willkommen in unserem tea.space!\nZusammenkommen und Tee trinken wie in einem ostasiatischen Teehaus.\nEinmal im Quartal treffen wir uns von 12:30 – 15 Uhr im Herzen von Frankfurt am Main.\nWir freuen uns auf euch. \nAnmeldung gerne per Mail unter info@teaspace.de \nWir bitten um einen Unkostenbeitrag zwischen 5€ und 10€.\nEs müssen keine Utensilien oder Tee mitgebracht werden. \nInfos und Aktuelles unter: instagram.com/tea_space_frankfurt \nAktuelle Termine für 2026 \n21.02.2026\n30.05.2026\n22.08.2026\n05.12.2026
URL:https://freiraum-oederweg.de/event/teaspace-2026-2/2026-08-22/
LOCATION:freiraum:\, Oeder Weg 6\, Frankfurt\, 60318\, Deutschland
CATEGORIES:Begegnungen,tea.space
ATTACH;FMTTYPE=image/jpeg:https://freiraum-oederweg.de/wp-content/uploads/2025/01/TeaSpace-1.jpg
ORGANIZER;CN="tea.space":MAILTO:tea.space@freiraum-oederweg.de
END:VEVENT
BEGIN:VEVENT
DTSTART;TZID=Europe/Berlin:20261205T123000
DTEND;TZID=Europe/Berlin:20261205T150000
DTSTAMP:20260423T225731
CREATED:20250117T231926Z
LAST-MODIFIED:20260127T123618Z
UID:10001913-1796473800-1796482800@freiraum-oederweg.de
SUMMARY:tea.space Frankfurt
DESCRIPTION:Willkommen in unserem tea.space!\nZusammenkommen und Tee trinken wie in einem ostasiatischen Teehaus.\nEinmal im Quartal treffen wir uns von 12:30 – 15 Uhr im Herzen von Frankfurt am Main.\nWir freuen uns auf euch. \nAnmeldung gerne per Mail unter info@teaspace.de \nWir bitten um einen Unkostenbeitrag zwischen 5€ und 10€.\nEs müssen keine Utensilien oder Tee mitgebracht werden. \nInfos und Aktuelles unter: instagram.com/tea_space_frankfurt \nAktuelle Termine für 2026 \n21.02.2026\n30.05.2026\n22.08.2026\n05.12.2026
URL:https://freiraum-oederweg.de/event/teaspace-2026-2/2026-12-05/
LOCATION:freiraum:\, Oeder Weg 6\, Frankfurt\, 60318\, Deutschland
CATEGORIES:Begegnungen,tea.space
ATTACH;FMTTYPE=image/jpeg:https://freiraum-oederweg.de/wp-content/uploads/2025/01/TeaSpace-1.jpg
ORGANIZER;CN="tea.space":MAILTO:tea.space@freiraum-oederweg.de
END:VEVENT
END:VCALENDAR