BEGIN:VCALENDAR
VERSION:2.0
PRODID:-//freiraum: Oeder Weg 6 - ECPv6.15.20//NONSGML v1.0//EN
CALSCALE:GREGORIAN
METHOD:PUBLISH
X-WR-CALNAME:freiraum: Oeder Weg 6
X-ORIGINAL-URL:https://freiraum-oederweg.de
X-WR-CALDESC:Veranstaltungen für freiraum: Oeder Weg 6
REFRESH-INTERVAL;VALUE=DURATION:PT1H
X-Robots-Tag:noindex
X-PUBLISHED-TTL:PT1H
BEGIN:VTIMEZONE
TZID:Europe/Berlin
BEGIN:DAYLIGHT
TZOFFSETFROM:+0100
TZOFFSETTO:+0200
TZNAME:CEST
DTSTART:20240331T010000
END:DAYLIGHT
BEGIN:STANDARD
TZOFFSETFROM:+0200
TZOFFSETTO:+0100
TZNAME:CET
DTSTART:20241027T010000
END:STANDARD
BEGIN:DAYLIGHT
TZOFFSETFROM:+0100
TZOFFSETTO:+0200
TZNAME:CEST
DTSTART:20250330T010000
END:DAYLIGHT
BEGIN:STANDARD
TZOFFSETFROM:+0200
TZOFFSETTO:+0100
TZNAME:CET
DTSTART:20251026T010000
END:STANDARD
BEGIN:DAYLIGHT
TZOFFSETFROM:+0100
TZOFFSETTO:+0200
TZNAME:CEST
DTSTART:20260329T010000
END:DAYLIGHT
BEGIN:STANDARD
TZOFFSETFROM:+0200
TZOFFSETTO:+0100
TZNAME:CET
DTSTART:20261025T010000
END:STANDARD
END:VTIMEZONE
BEGIN:VEVENT
DTSTART;TZID=Europe/Berlin:20250918T193000
DTEND;TZID=Europe/Berlin:20250918T210000
DTSTAMP:20260424T020559
CREATED:20250814T205657Z
LAST-MODIFIED:20250814T205658Z
UID:10001900-1758223800-1758229200@freiraum-oederweg.de
SUMMARY:Themenabend „Smartphone-Stress!?“
DESCRIPTION:Bist du manchmal gestresst durch Nachrichtenflut\, Posts anderer oder dauernde Ablenkung durch dein Handy? Hast du den Eindruck\, weniger Smartphone wäre gut für Kindheit und Gesellschaft? \nWenn du eine der beiden Fragen mit Ja beantworten kannst\, bist du an diesem Themenabend richtig. Gemeinsam wollen wir herausfinden\, was genau uns Stress macht und konkrete Lösungsansätze diskutieren. \n„Smartphone-Stress!?“\nDo\, 18. September\, 19.30-21 Uhr \nInfos: kerstin@freiraum-oederweg.de\nLeitung: Dr. Kerstin Perbandt
URL:https://freiraum-oederweg.de/event/smartphone-stress/
LOCATION:freiraum:\, Oeder Weg 6\, Frankfurt\, 60318\, Deutschland
CATEGORIES:Events,Themen
ATTACH;FMTTYPE=image/jpeg:https://freiraum-oederweg.de/wp-content/uploads/2025/08/Thema-1-1.jpg
ORGANIZER;CN="Dr. Kerstin Perbandt":MAILTO:k.perbandt@psych.uni-frankfurt.de
END:VEVENT
END:VCALENDAR